BEGIN:VCALENDAR
VERSION:2.0
PRODID:-//Covenant Family Church - Pastors Keith and Lynn Eggert - ECPv6.13.2.1//NONSGML v1.0//EN
CALSCALE:GREGORIAN
METHOD:PUBLISH
X-WR-CALNAME:Covenant Family Church - Pastors Keith and Lynn Eggert
X-ORIGINAL-URL:https://covenantfamily.cc
X-WR-CALDESC:Events for Covenant Family Church - Pastors Keith and Lynn Eggert
REFRESH-INTERVAL;VALUE=DURATION:PT1H
X-Robots-Tag:noindex
X-PUBLISHED-TTL:PT1H
BEGIN:VTIMEZONE
TZID:America/New_York
BEGIN:DAYLIGHT
TZOFFSETFROM:-0500
TZOFFSETTO:-0400
TZNAME:EDT
DTSTART:20130310T070000
END:DAYLIGHT
BEGIN:STANDARD
TZOFFSETFROM:-0400
TZOFFSETTO:-0500
TZNAME:EST
DTSTART:20131103T060000
END:STANDARD
END:VTIMEZONE
BEGIN:VEVENT
DTSTART;TZID=America/New_York:20130322T190000
DTEND;TZID=America/New_York:20130322T200000
DTSTAMP:20260425T063955
CREATED:20130322T203454Z
LAST-MODIFIED:20130322T203454Z
UID:1640-1363978800-1363982400@covenantfamily.cc
SUMMARY:Impact Leadership Meeting
DESCRIPTION:Make a difference in our community through Covenant Family Church. Join us for our monthly leadership meeting and find out why church is more than a spectators’ sport.
URL:https://covenantfamily.cc/event/impact-leadership-meeting/
LOCATION:Courtyard Pittsburgh Airport\, 450 Cherrington Parkway\, Coraopolis\, PA\, 15108\, United States
CATEGORIES:Leadership
ATTACH;FMTTYPE=image/jpeg:https://covenantfamily.cc/wp-content/uploads/2013/03/impact.jpg
ORGANIZER;CN="Covenant Family Church":MAILTO:info@covenantfamily.cc
END:VEVENT
END:VCALENDAR