BEGIN:VCALENDAR
VERSION:2.0
PRODID:-//Covenant Family Church - Pastors Keith and Lynn Eggert - ECPv6.13.2.1//NONSGML v1.0//EN
CALSCALE:GREGORIAN
METHOD:PUBLISH
X-ORIGINAL-URL:https://covenantfamily.cc
X-WR-CALDESC:Events for Covenant Family Church - Pastors Keith and Lynn Eggert
REFRESH-INTERVAL;VALUE=DURATION:PT1H
X-Robots-Tag:noindex
X-PUBLISHED-TTL:PT1H
BEGIN:VTIMEZONE
TZID:America/New_York
BEGIN:DAYLIGHT
TZOFFSETFROM:-0500
TZOFFSETTO:-0400
TZNAME:EDT
DTSTART:20260308T070000
END:DAYLIGHT
BEGIN:STANDARD
TZOFFSETFROM:-0400
TZOFFSETTO:-0500
TZNAME:EST
DTSTART:20261101T060000
END:STANDARD
BEGIN:DAYLIGHT
TZOFFSETFROM:-0500
TZOFFSETTO:-0400
TZNAME:EDT
DTSTART:20270314T070000
END:DAYLIGHT
BEGIN:STANDARD
TZOFFSETFROM:-0400
TZOFFSETTO:-0500
TZNAME:EST
DTSTART:20271107T060000
END:STANDARD
END:VTIMEZONE
BEGIN:VEVENT
DTSTART;TZID=America/New_York:20261101T103000
DTEND;TZID=America/New_York:20261101T120000
DTSTAMP:20260423T201120
CREATED:20221121T153350Z
LAST-MODIFIED:20221121T153350Z
UID:9099-1793529000-1793534400@covenantfamily.cc
SUMMARY:Sunday Service
DESCRIPTION:
URL:https://covenantfamily.cc/event/sunday-service-2-2026-11-01/
LOCATION:Hilton Garden Inn\, 303 Park Manor Drive Robinson\, Pennsylvania\, PA\, 15205\, United States
ORGANIZER;CN="Covenant Family Church":MAILTO:info@covenantfamily.cc
END:VEVENT
BEGIN:VEVENT
DTSTART;TZID=America/New_York:20261108T103000
DTEND;TZID=America/New_York:20261108T120000
DTSTAMP:20260423T201120
CREATED:20221121T153350Z
LAST-MODIFIED:20221121T153350Z
UID:9100-1794133800-1794139200@covenantfamily.cc
SUMMARY:Sunday Service
DESCRIPTION:
URL:https://covenantfamily.cc/event/sunday-service-2-2026-11-08/
LOCATION:Hilton Garden Inn\, 303 Park Manor Drive Robinson\, Pennsylvania\, PA\, 15205\, United States
ORGANIZER;CN="Covenant Family Church":MAILTO:info@covenantfamily.cc
END:VEVENT
BEGIN:VEVENT
DTSTART;TZID=America/New_York:20261115T103000
DTEND;TZID=America/New_York:20261115T120000
DTSTAMP:20260423T201120
CREATED:20221121T153350Z
LAST-MODIFIED:20221121T153350Z
UID:9101-1794738600-1794744000@covenantfamily.cc
SUMMARY:Sunday Service
DESCRIPTION:
URL:https://covenantfamily.cc/event/sunday-service-2-2026-11-15/
LOCATION:Hilton Garden Inn\, 303 Park Manor Drive Robinson\, Pennsylvania\, PA\, 15205\, United States
ORGANIZER;CN="Covenant Family Church":MAILTO:info@covenantfamily.cc
END:VEVENT
BEGIN:VEVENT
DTSTART;TZID=America/New_York:20261122T103000
DTEND;TZID=America/New_York:20261122T120000
DTSTAMP:20260423T201120
CREATED:20221121T153350Z
LAST-MODIFIED:20221121T153350Z
UID:9102-1795343400-1795348800@covenantfamily.cc
SUMMARY:Sunday Service
DESCRIPTION:
URL:https://covenantfamily.cc/event/sunday-service-2-2026-11-22/
LOCATION:Hilton Garden Inn\, 303 Park Manor Drive Robinson\, Pennsylvania\, PA\, 15205\, United States
ORGANIZER;CN="Covenant Family Church":MAILTO:info@covenantfamily.cc
END:VEVENT
BEGIN:VEVENT
DTSTART;TZID=America/New_York:20261129T103000
DTEND;TZID=America/New_York:20261129T120000
DTSTAMP:20260423T201120
CREATED:20221121T153350Z
LAST-MODIFIED:20221121T153350Z
UID:9103-1795948200-1795953600@covenantfamily.cc
SUMMARY:Sunday Service
DESCRIPTION:
URL:https://covenantfamily.cc/event/sunday-service-2-2026-11-29/
LOCATION:Hilton Garden Inn\, 303 Park Manor Drive Robinson\, Pennsylvania\, PA\, 15205\, United States
ORGANIZER;CN="Covenant Family Church":MAILTO:info@covenantfamily.cc
END:VEVENT
BEGIN:VEVENT
DTSTART;TZID=America/New_York:20261206T103000
DTEND;TZID=America/New_York:20261206T120000
DTSTAMP:20260423T201120
CREATED:20221121T153350Z
LAST-MODIFIED:20221121T153350Z
UID:9104-1796553000-1796558400@covenantfamily.cc
SUMMARY:Sunday Service
DESCRIPTION:
URL:https://covenantfamily.cc/event/sunday-service-2-2026-12-06/
LOCATION:Hilton Garden Inn\, 303 Park Manor Drive Robinson\, Pennsylvania\, PA\, 15205\, United States
ORGANIZER;CN="Covenant Family Church":MAILTO:info@covenantfamily.cc
END:VEVENT
BEGIN:VEVENT
DTSTART;TZID=America/New_York:20261213T103000
DTEND;TZID=America/New_York:20261213T120000
DTSTAMP:20260423T201120
CREATED:20221121T153350Z
LAST-MODIFIED:20221121T153350Z
UID:9105-1797157800-1797163200@covenantfamily.cc
SUMMARY:Sunday Service
DESCRIPTION:
URL:https://covenantfamily.cc/event/sunday-service-2-2026-12-13/
LOCATION:Hilton Garden Inn\, 303 Park Manor Drive Robinson\, Pennsylvania\, PA\, 15205\, United States
ORGANIZER;CN="Covenant Family Church":MAILTO:info@covenantfamily.cc
END:VEVENT
BEGIN:VEVENT
DTSTART;TZID=America/New_York:20261220T103000
DTEND;TZID=America/New_York:20261220T120000
DTSTAMP:20260423T201120
CREATED:20221121T153350Z
LAST-MODIFIED:20221121T153350Z
UID:9106-1797762600-1797768000@covenantfamily.cc
SUMMARY:Sunday Service
DESCRIPTION:
URL:https://covenantfamily.cc/event/sunday-service-2-2026-12-20/
LOCATION:Hilton Garden Inn\, 303 Park Manor Drive Robinson\, Pennsylvania\, PA\, 15205\, United States
ORGANIZER;CN="Covenant Family Church":MAILTO:info@covenantfamily.cc
END:VEVENT
BEGIN:VEVENT
DTSTART;TZID=America/New_York:20261227T103000
DTEND;TZID=America/New_York:20261227T120000
DTSTAMP:20260423T201120
CREATED:20221121T153350Z
LAST-MODIFIED:20221121T153350Z
UID:9107-1798367400-1798372800@covenantfamily.cc
SUMMARY:Sunday Service
DESCRIPTION:
URL:https://covenantfamily.cc/event/sunday-service-2-2026-12-27/
LOCATION:Hilton Garden Inn\, 303 Park Manor Drive Robinson\, Pennsylvania\, PA\, 15205\, United States
ORGANIZER;CN="Covenant Family Church":MAILTO:info@covenantfamily.cc
END:VEVENT
BEGIN:VEVENT
DTSTART;TZID=America/New_York:20270103T103000
DTEND;TZID=America/New_York:20270103T120000
DTSTAMP:20260423T201120
CREATED:20221121T153350Z
LAST-MODIFIED:20221121T153350Z
UID:9113-1798972200-1798977600@covenantfamily.cc
SUMMARY:Sunday Service
DESCRIPTION:
URL:https://covenantfamily.cc/event/sunday-service-2-2027-01-03/
LOCATION:Hilton Garden Inn\, 303 Park Manor Drive Robinson\, Pennsylvania\, PA\, 15205\, United States
ORGANIZER;CN="Covenant Family Church":MAILTO:info@covenantfamily.cc
END:VEVENT
BEGIN:VEVENT
DTSTART;TZID=America/New_York:20270110T103000
DTEND;TZID=America/New_York:20270110T120000
DTSTAMP:20260423T201120
CREATED:20221121T153350Z
LAST-MODIFIED:20221121T153350Z
UID:9120-1799577000-1799582400@covenantfamily.cc
SUMMARY:Sunday Service
DESCRIPTION:
URL:https://covenantfamily.cc/event/sunday-service-2-2027-01-10/
LOCATION:Hilton Garden Inn\, 303 Park Manor Drive Robinson\, Pennsylvania\, PA\, 15205\, United States
ORGANIZER;CN="Covenant Family Church":MAILTO:info@covenantfamily.cc
END:VEVENT
END:VCALENDAR