BEGIN:VCALENDAR
VERSION:2.0
PRODID:-//Covenant Family Church - Pastors Keith and Lynn Eggert - ECPv6.13.2.1//NONSGML v1.0//EN
CALSCALE:GREGORIAN
METHOD:PUBLISH
X-WR-CALNAME:Covenant Family Church - Pastors Keith and Lynn Eggert
X-ORIGINAL-URL:https://covenantfamily.cc
X-WR-CALDESC:Events for Covenant Family Church - Pastors Keith and Lynn Eggert
REFRESH-INTERVAL;VALUE=DURATION:PT1H
X-Robots-Tag:noindex
X-PUBLISHED-TTL:PT1H
BEGIN:VTIMEZONE
TZID:America/New_York
BEGIN:DAYLIGHT
TZOFFSETFROM:-0500
TZOFFSETTO:-0400
TZNAME:EDT
DTSTART:20230312T070000
END:DAYLIGHT
BEGIN:STANDARD
TZOFFSETFROM:-0400
TZOFFSETTO:-0500
TZNAME:EST
DTSTART:20231105T060000
END:STANDARD
END:VTIMEZONE
BEGIN:VEVENT
DTSTART;TZID=America/New_York:20230924T103000
DTEND;TZID=America/New_York:20230924T120000
DTSTAMP:20260424T121245
CREATED:20221121T153350Z
LAST-MODIFIED:20221121T153350Z
UID:8891-1695551400-1695556800@covenantfamily.cc
SUMMARY:Sunday Service
DESCRIPTION:
URL:https://covenantfamily.cc/event/sunday-service-2-2023-09-24/
LOCATION:Hilton Garden Inn\, 303 Park Manor Drive Robinson\, Pennsylvania\, PA\, 15205\, United States
ORGANIZER;CN="Covenant Family Church":MAILTO:info@covenantfamily.cc
END:VEVENT
BEGIN:VEVENT
DTSTART;TZID=America/New_York:20230917T103000
DTEND;TZID=America/New_York:20230917T120000
DTSTAMP:20260424T121245
CREATED:20221121T153350Z
LAST-MODIFIED:20221121T153350Z
UID:8890-1694946600-1694952000@covenantfamily.cc
SUMMARY:Sunday Service
DESCRIPTION:
URL:https://covenantfamily.cc/event/sunday-service-2-2023-09-17/
LOCATION:Hilton Garden Inn\, 303 Park Manor Drive Robinson\, Pennsylvania\, PA\, 15205\, United States
ORGANIZER;CN="Covenant Family Church":MAILTO:info@covenantfamily.cc
END:VEVENT
BEGIN:VEVENT
DTSTART;TZID=America/New_York:20230910T103000
DTEND;TZID=America/New_York:20230910T120000
DTSTAMP:20260424T121245
CREATED:20221121T153350Z
LAST-MODIFIED:20221121T153350Z
UID:8889-1694341800-1694347200@covenantfamily.cc
SUMMARY:Sunday Service
DESCRIPTION:
URL:https://covenantfamily.cc/event/sunday-service-2-2023-09-10/
LOCATION:Hilton Garden Inn\, 303 Park Manor Drive Robinson\, Pennsylvania\, PA\, 15205\, United States
ORGANIZER;CN="Covenant Family Church":MAILTO:info@covenantfamily.cc
END:VEVENT
BEGIN:VEVENT
DTSTART;TZID=America/New_York:20230903T103000
DTEND;TZID=America/New_York:20230903T120000
DTSTAMP:20260424T121245
CREATED:20221121T153350Z
LAST-MODIFIED:20221121T153350Z
UID:8888-1693737000-1693742400@covenantfamily.cc
SUMMARY:Sunday Service
DESCRIPTION:
URL:https://covenantfamily.cc/event/sunday-service-2-2023-09-03/
LOCATION:Hilton Garden Inn\, 303 Park Manor Drive Robinson\, Pennsylvania\, PA\, 15205\, United States
ORGANIZER;CN="Covenant Family Church":MAILTO:info@covenantfamily.cc
END:VEVENT
BEGIN:VEVENT
DTSTART;TZID=America/New_York:20230827T103000
DTEND;TZID=America/New_York:20230827T120000
DTSTAMP:20260424T121245
CREATED:20221121T153350Z
LAST-MODIFIED:20221121T153350Z
UID:8887-1693132200-1693137600@covenantfamily.cc
SUMMARY:Sunday Service
DESCRIPTION:
URL:https://covenantfamily.cc/event/sunday-service-2-2023-08-27/
LOCATION:Hilton Garden Inn\, 303 Park Manor Drive Robinson\, Pennsylvania\, PA\, 15205\, United States
ORGANIZER;CN="Covenant Family Church":MAILTO:info@covenantfamily.cc
END:VEVENT
BEGIN:VEVENT
DTSTART;TZID=America/New_York:20230820T103000
DTEND;TZID=America/New_York:20230820T120000
DTSTAMP:20260424T121245
CREATED:20221121T153350Z
LAST-MODIFIED:20221121T153350Z
UID:8886-1692527400-1692532800@covenantfamily.cc
SUMMARY:Sunday Service
DESCRIPTION:
URL:https://covenantfamily.cc/event/sunday-service-2-2023-08-20/
LOCATION:Hilton Garden Inn\, 303 Park Manor Drive Robinson\, Pennsylvania\, PA\, 15205\, United States
ORGANIZER;CN="Covenant Family Church":MAILTO:info@covenantfamily.cc
END:VEVENT
BEGIN:VEVENT
DTSTART;TZID=America/New_York:20230813T103000
DTEND;TZID=America/New_York:20230813T120000
DTSTAMP:20260424T121245
CREATED:20221121T153350Z
LAST-MODIFIED:20221121T153350Z
UID:8885-1691922600-1691928000@covenantfamily.cc
SUMMARY:Sunday Service
DESCRIPTION:
URL:https://covenantfamily.cc/event/sunday-service-2-2023-08-13/
LOCATION:Hilton Garden Inn\, 303 Park Manor Drive Robinson\, Pennsylvania\, PA\, 15205\, United States
ORGANIZER;CN="Covenant Family Church":MAILTO:info@covenantfamily.cc
END:VEVENT
BEGIN:VEVENT
DTSTART;TZID=America/New_York:20230806T103000
DTEND;TZID=America/New_York:20230806T120000
DTSTAMP:20260424T121245
CREATED:20221121T153350Z
LAST-MODIFIED:20221121T153350Z
UID:8884-1691317800-1691323200@covenantfamily.cc
SUMMARY:Sunday Service
DESCRIPTION:
URL:https://covenantfamily.cc/event/sunday-service-2-2023-08-06/
LOCATION:Hilton Garden Inn\, 303 Park Manor Drive Robinson\, Pennsylvania\, PA\, 15205\, United States
ORGANIZER;CN="Covenant Family Church":MAILTO:info@covenantfamily.cc
END:VEVENT
BEGIN:VEVENT
DTSTART;TZID=America/New_York:20230730T103000
DTEND;TZID=America/New_York:20230730T120000
DTSTAMP:20260424T121245
CREATED:20221121T153350Z
LAST-MODIFIED:20221121T153350Z
UID:8883-1690713000-1690718400@covenantfamily.cc
SUMMARY:Sunday Service
DESCRIPTION:
URL:https://covenantfamily.cc/event/sunday-service-2-2023-07-30/
LOCATION:Hilton Garden Inn\, 303 Park Manor Drive Robinson\, Pennsylvania\, PA\, 15205\, United States
ORGANIZER;CN="Covenant Family Church":MAILTO:info@covenantfamily.cc
END:VEVENT
BEGIN:VEVENT
DTSTART;TZID=America/New_York:20230723T103000
DTEND;TZID=America/New_York:20230723T120000
DTSTAMP:20260424T121245
CREATED:20221121T153350Z
LAST-MODIFIED:20221121T153350Z
UID:8882-1690108200-1690113600@covenantfamily.cc
SUMMARY:Sunday Service
DESCRIPTION:
URL:https://covenantfamily.cc/event/sunday-service-2-2023-07-23/
LOCATION:Hilton Garden Inn\, 303 Park Manor Drive Robinson\, Pennsylvania\, PA\, 15205\, United States
ORGANIZER;CN="Covenant Family Church":MAILTO:info@covenantfamily.cc
END:VEVENT
BEGIN:VEVENT
DTSTART;TZID=America/New_York:20230716T103000
DTEND;TZID=America/New_York:20230716T120000
DTSTAMP:20260424T121245
CREATED:20221121T153350Z
LAST-MODIFIED:20221121T153350Z
UID:8881-1689503400-1689508800@covenantfamily.cc
SUMMARY:Sunday Service
DESCRIPTION:
URL:https://covenantfamily.cc/event/sunday-service-2-2023-07-16/
LOCATION:Hilton Garden Inn\, 303 Park Manor Drive Robinson\, Pennsylvania\, PA\, 15205\, United States
ORGANIZER;CN="Covenant Family Church":MAILTO:info@covenantfamily.cc
END:VEVENT
BEGIN:VEVENT
DTSTART;TZID=America/New_York:20230709T103000
DTEND;TZID=America/New_York:20230709T120000
DTSTAMP:20260424T121245
CREATED:20221121T153350Z
LAST-MODIFIED:20221121T153350Z
UID:8880-1688898600-1688904000@covenantfamily.cc
SUMMARY:Sunday Service
DESCRIPTION:
URL:https://covenantfamily.cc/event/sunday-service-2-2023-07-09/
LOCATION:Hilton Garden Inn\, 303 Park Manor Drive Robinson\, Pennsylvania\, PA\, 15205\, United States
ORGANIZER;CN="Covenant Family Church":MAILTO:info@covenantfamily.cc
END:VEVENT
BEGIN:VEVENT
DTSTART;TZID=America/New_York:20230702T103000
DTEND;TZID=America/New_York:20230702T120000
DTSTAMP:20260424T121245
CREATED:20221121T153350Z
LAST-MODIFIED:20221121T153350Z
UID:8879-1688293800-1688299200@covenantfamily.cc
SUMMARY:Sunday Service
DESCRIPTION:
URL:https://covenantfamily.cc/event/sunday-service-2-2023-07-02/
LOCATION:Hilton Garden Inn\, 303 Park Manor Drive Robinson\, Pennsylvania\, PA\, 15205\, United States
ORGANIZER;CN="Covenant Family Church":MAILTO:info@covenantfamily.cc
END:VEVENT
BEGIN:VEVENT
DTSTART;TZID=America/New_York:20230625T103000
DTEND;TZID=America/New_York:20230625T120000
DTSTAMP:20260424T121245
CREATED:20221121T153350Z
LAST-MODIFIED:20221121T153350Z
UID:8878-1687689000-1687694400@covenantfamily.cc
SUMMARY:Sunday Service
DESCRIPTION:
URL:https://covenantfamily.cc/event/sunday-service-2-2023-06-25/
LOCATION:Hilton Garden Inn\, 303 Park Manor Drive Robinson\, Pennsylvania\, PA\, 15205\, United States
ORGANIZER;CN="Covenant Family Church":MAILTO:info@covenantfamily.cc
END:VEVENT
BEGIN:VEVENT
DTSTART;TZID=America/New_York:20230618T103000
DTEND;TZID=America/New_York:20230618T120000
DTSTAMP:20260424T121245
CREATED:20221121T153350Z
LAST-MODIFIED:20221121T153350Z
UID:8877-1687084200-1687089600@covenantfamily.cc
SUMMARY:Sunday Service
DESCRIPTION:
URL:https://covenantfamily.cc/event/sunday-service-2-2023-06-18/
LOCATION:Hilton Garden Inn\, 303 Park Manor Drive Robinson\, Pennsylvania\, PA\, 15205\, United States
ORGANIZER;CN="Covenant Family Church":MAILTO:info@covenantfamily.cc
END:VEVENT
BEGIN:VEVENT
DTSTART;TZID=America/New_York:20230611T103000
DTEND;TZID=America/New_York:20230611T120000
DTSTAMP:20260424T121245
CREATED:20221121T153350Z
LAST-MODIFIED:20221121T153350Z
UID:8876-1686479400-1686484800@covenantfamily.cc
SUMMARY:Sunday Service
DESCRIPTION:
URL:https://covenantfamily.cc/event/sunday-service-2-2023-06-11/
LOCATION:Hilton Garden Inn\, 303 Park Manor Drive Robinson\, Pennsylvania\, PA\, 15205\, United States
ORGANIZER;CN="Covenant Family Church":MAILTO:info@covenantfamily.cc
END:VEVENT
BEGIN:VEVENT
DTSTART;TZID=America/New_York:20230604T103000
DTEND;TZID=America/New_York:20230604T120000
DTSTAMP:20260424T121245
CREATED:20221121T153350Z
LAST-MODIFIED:20221121T153350Z
UID:8875-1685874600-1685880000@covenantfamily.cc
SUMMARY:Sunday Service
DESCRIPTION:
URL:https://covenantfamily.cc/event/sunday-service-2-2023-06-04/
LOCATION:Hilton Garden Inn\, 303 Park Manor Drive Robinson\, Pennsylvania\, PA\, 15205\, United States
ORGANIZER;CN="Covenant Family Church":MAILTO:info@covenantfamily.cc
END:VEVENT
BEGIN:VEVENT
DTSTART;TZID=America/New_York:20230528T103000
DTEND;TZID=America/New_York:20230528T120000
DTSTAMP:20260424T121245
CREATED:20221121T153350Z
LAST-MODIFIED:20221121T153350Z
UID:8874-1685269800-1685275200@covenantfamily.cc
SUMMARY:Sunday Service
DESCRIPTION:
URL:https://covenantfamily.cc/event/sunday-service-2-2023-05-28/
LOCATION:Hilton Garden Inn\, 303 Park Manor Drive Robinson\, Pennsylvania\, PA\, 15205\, United States
ORGANIZER;CN="Covenant Family Church":MAILTO:info@covenantfamily.cc
END:VEVENT
BEGIN:VEVENT
DTSTART;TZID=America/New_York:20230521T103000
DTEND;TZID=America/New_York:20230521T120000
DTSTAMP:20260424T121245
CREATED:20221121T153350Z
LAST-MODIFIED:20221121T153350Z
UID:8873-1684665000-1684670400@covenantfamily.cc
SUMMARY:Sunday Service
DESCRIPTION:
URL:https://covenantfamily.cc/event/sunday-service-2-2023-05-21/
LOCATION:Hilton Garden Inn\, 303 Park Manor Drive Robinson\, Pennsylvania\, PA\, 15205\, United States
ORGANIZER;CN="Covenant Family Church":MAILTO:info@covenantfamily.cc
END:VEVENT
BEGIN:VEVENT
DTSTART;TZID=America/New_York:20230514T103000
DTEND;TZID=America/New_York:20230514T120000
DTSTAMP:20260424T121245
CREATED:20221121T153350Z
LAST-MODIFIED:20221121T153350Z
UID:8872-1684060200-1684065600@covenantfamily.cc
SUMMARY:Sunday Service
DESCRIPTION:
URL:https://covenantfamily.cc/event/sunday-service-2-2023-05-14/
LOCATION:Hilton Garden Inn\, 303 Park Manor Drive Robinson\, Pennsylvania\, PA\, 15205\, United States
ORGANIZER;CN="Covenant Family Church":MAILTO:info@covenantfamily.cc
END:VEVENT
BEGIN:VEVENT
DTSTART;TZID=America/New_York:20230507T103000
DTEND;TZID=America/New_York:20230507T120000
DTSTAMP:20260424T121245
CREATED:20221121T153350Z
LAST-MODIFIED:20221121T153350Z
UID:8871-1683455400-1683460800@covenantfamily.cc
SUMMARY:Sunday Service
DESCRIPTION:
URL:https://covenantfamily.cc/event/sunday-service-2-2023-05-07/
LOCATION:Hilton Garden Inn\, 303 Park Manor Drive Robinson\, Pennsylvania\, PA\, 15205\, United States
ORGANIZER;CN="Covenant Family Church":MAILTO:info@covenantfamily.cc
END:VEVENT
BEGIN:VEVENT
DTSTART;TZID=America/New_York:20230430T103000
DTEND;TZID=America/New_York:20230430T120000
DTSTAMP:20260424T121245
CREATED:20221121T153350Z
LAST-MODIFIED:20221121T153350Z
UID:8870-1682850600-1682856000@covenantfamily.cc
SUMMARY:Sunday Service
DESCRIPTION:
URL:https://covenantfamily.cc/event/sunday-service-2-2023-04-30/
LOCATION:Hilton Garden Inn\, 303 Park Manor Drive Robinson\, Pennsylvania\, PA\, 15205\, United States
ORGANIZER;CN="Covenant Family Church":MAILTO:info@covenantfamily.cc
END:VEVENT
BEGIN:VEVENT
DTSTART;TZID=America/New_York:20230423T103000
DTEND;TZID=America/New_York:20230423T120000
DTSTAMP:20260424T121245
CREATED:20221121T153350Z
LAST-MODIFIED:20221121T153350Z
UID:8869-1682245800-1682251200@covenantfamily.cc
SUMMARY:Sunday Service
DESCRIPTION:
URL:https://covenantfamily.cc/event/sunday-service-2-2023-04-23/
LOCATION:Hilton Garden Inn\, 303 Park Manor Drive Robinson\, Pennsylvania\, PA\, 15205\, United States
ORGANIZER;CN="Covenant Family Church":MAILTO:info@covenantfamily.cc
END:VEVENT
BEGIN:VEVENT
DTSTART;TZID=America/New_York:20230416T103000
DTEND;TZID=America/New_York:20230416T120000
DTSTAMP:20260424T121245
CREATED:20221121T153350Z
LAST-MODIFIED:20221121T153350Z
UID:8868-1681641000-1681646400@covenantfamily.cc
SUMMARY:Sunday Service
DESCRIPTION:
URL:https://covenantfamily.cc/event/sunday-service-2-2023-04-16/
LOCATION:Hilton Garden Inn\, 303 Park Manor Drive Robinson\, Pennsylvania\, PA\, 15205\, United States
ORGANIZER;CN="Covenant Family Church":MAILTO:info@covenantfamily.cc
END:VEVENT
BEGIN:VEVENT
DTSTART;TZID=America/New_York:20230409T103000
DTEND;TZID=America/New_York:20230409T120000
DTSTAMP:20260424T121245
CREATED:20221121T153350Z
LAST-MODIFIED:20221121T153350Z
UID:8867-1681036200-1681041600@covenantfamily.cc
SUMMARY:Sunday Service
DESCRIPTION:
URL:https://covenantfamily.cc/event/sunday-service-2-2023-04-09/
LOCATION:Hilton Garden Inn\, 303 Park Manor Drive Robinson\, Pennsylvania\, PA\, 15205\, United States
ORGANIZER;CN="Covenant Family Church":MAILTO:info@covenantfamily.cc
END:VEVENT
BEGIN:VEVENT
DTSTART;TZID=America/New_York:20230402T103000
DTEND;TZID=America/New_York:20230402T120000
DTSTAMP:20260424T121245
CREATED:20221121T153350Z
LAST-MODIFIED:20221121T153350Z
UID:8866-1680431400-1680436800@covenantfamily.cc
SUMMARY:Sunday Service
DESCRIPTION:
URL:https://covenantfamily.cc/event/sunday-service-2-2023-04-02/
LOCATION:Hilton Garden Inn\, 303 Park Manor Drive Robinson\, Pennsylvania\, PA\, 15205\, United States
ORGANIZER;CN="Covenant Family Church":MAILTO:info@covenantfamily.cc
END:VEVENT
BEGIN:VEVENT
DTSTART;TZID=America/New_York:20230326T103000
DTEND;TZID=America/New_York:20230326T120000
DTSTAMP:20260424T121245
CREATED:20221121T153350Z
LAST-MODIFIED:20221121T153350Z
UID:8865-1679826600-1679832000@covenantfamily.cc
SUMMARY:Sunday Service
DESCRIPTION:
URL:https://covenantfamily.cc/event/sunday-service-2-2023-03-26/
LOCATION:Hilton Garden Inn\, 303 Park Manor Drive Robinson\, Pennsylvania\, PA\, 15205\, United States
ORGANIZER;CN="Covenant Family Church":MAILTO:info@covenantfamily.cc
END:VEVENT
BEGIN:VEVENT
DTSTART;TZID=America/New_York:20230319T103000
DTEND;TZID=America/New_York:20230319T120000
DTSTAMP:20260424T121245
CREATED:20221121T153350Z
LAST-MODIFIED:20221121T153350Z
UID:8864-1679221800-1679227200@covenantfamily.cc
SUMMARY:Sunday Service
DESCRIPTION:
URL:https://covenantfamily.cc/event/sunday-service-2-2023-03-19/
LOCATION:Hilton Garden Inn\, 303 Park Manor Drive Robinson\, Pennsylvania\, PA\, 15205\, United States
ORGANIZER;CN="Covenant Family Church":MAILTO:info@covenantfamily.cc
END:VEVENT
BEGIN:VEVENT
DTSTART;TZID=America/New_York:20230312T103000
DTEND;TZID=America/New_York:20230312T120000
DTSTAMP:20260424T121245
CREATED:20221121T153350Z
LAST-MODIFIED:20221121T153350Z
UID:8863-1678617000-1678622400@covenantfamily.cc
SUMMARY:Sunday Service
DESCRIPTION:
URL:https://covenantfamily.cc/event/sunday-service-2-2023-03-12/
LOCATION:Hilton Garden Inn\, 303 Park Manor Drive Robinson\, Pennsylvania\, PA\, 15205\, United States
ORGANIZER;CN="Covenant Family Church":MAILTO:info@covenantfamily.cc
END:VEVENT
BEGIN:VEVENT
DTSTART;TZID=America/New_York:20230305T103000
DTEND;TZID=America/New_York:20230305T120000
DTSTAMP:20260424T121245
CREATED:20221121T153350Z
LAST-MODIFIED:20221121T153350Z
UID:8862-1678012200-1678017600@covenantfamily.cc
SUMMARY:Sunday Service
DESCRIPTION:
URL:https://covenantfamily.cc/event/sunday-service-2-2023-03-05/
LOCATION:Hilton Garden Inn\, 303 Park Manor Drive Robinson\, Pennsylvania\, PA\, 15205\, United States
ORGANIZER;CN="Covenant Family Church":MAILTO:info@covenantfamily.cc
END:VEVENT
END:VCALENDAR