BEGIN:VCALENDAR
VERSION:2.0
PRODID:-//Covenant Family Church - Pastors Keith and Lynn Eggert - ECPv6.13.2.1//NONSGML v1.0//EN
CALSCALE:GREGORIAN
METHOD:PUBLISH
X-WR-CALNAME:Covenant Family Church - Pastors Keith and Lynn Eggert
X-ORIGINAL-URL:https://covenantfamily.cc
X-WR-CALDESC:Events for Covenant Family Church - Pastors Keith and Lynn Eggert
REFRESH-INTERVAL;VALUE=DURATION:PT1H
X-Robots-Tag:noindex
X-PUBLISHED-TTL:PT1H
BEGIN:VTIMEZONE
TZID:America/New_York
BEGIN:DAYLIGHT
TZOFFSETFROM:-0500
TZOFFSETTO:-0400
TZNAME:EDT
DTSTART:20230312T070000
END:DAYLIGHT
BEGIN:STANDARD
TZOFFSETFROM:-0400
TZOFFSETTO:-0500
TZNAME:EST
DTSTART:20231105T060000
END:STANDARD
BEGIN:DAYLIGHT
TZOFFSETFROM:-0500
TZOFFSETTO:-0400
TZNAME:EDT
DTSTART:20240310T070000
END:DAYLIGHT
BEGIN:STANDARD
TZOFFSETFROM:-0400
TZOFFSETTO:-0500
TZNAME:EST
DTSTART:20241103T060000
END:STANDARD
END:VTIMEZONE
BEGIN:VEVENT
DTSTART;TZID=America/New_York:20240505T103000
DTEND;TZID=America/New_York:20240505T120000
DTSTAMP:20260424T070258
CREATED:20221121T153350Z
LAST-MODIFIED:20221121T153350Z
UID:8923-1714905000-1714910400@covenantfamily.cc
SUMMARY:Sunday Service
DESCRIPTION:
URL:https://covenantfamily.cc/event/sunday-service-2-2024-05-05/
LOCATION:Hilton Garden Inn\, 303 Park Manor Drive Robinson\, Pennsylvania\, PA\, 15205\, United States
ORGANIZER;CN="Covenant Family Church":MAILTO:info@covenantfamily.cc
END:VEVENT
BEGIN:VEVENT
DTSTART;TZID=America/New_York:20240428T103000
DTEND;TZID=America/New_York:20240428T120000
DTSTAMP:20260424T070258
CREATED:20221121T153350Z
LAST-MODIFIED:20221121T153350Z
UID:8922-1714300200-1714305600@covenantfamily.cc
SUMMARY:Sunday Service
DESCRIPTION:
URL:https://covenantfamily.cc/event/sunday-service-2-2024-04-28/
LOCATION:Hilton Garden Inn\, 303 Park Manor Drive Robinson\, Pennsylvania\, PA\, 15205\, United States
ORGANIZER;CN="Covenant Family Church":MAILTO:info@covenantfamily.cc
END:VEVENT
BEGIN:VEVENT
DTSTART;TZID=America/New_York:20240421T103000
DTEND;TZID=America/New_York:20240421T120000
DTSTAMP:20260424T070258
CREATED:20221121T153350Z
LAST-MODIFIED:20221121T153350Z
UID:8921-1713695400-1713700800@covenantfamily.cc
SUMMARY:Sunday Service
DESCRIPTION:
URL:https://covenantfamily.cc/event/sunday-service-2-2024-04-21/
LOCATION:Hilton Garden Inn\, 303 Park Manor Drive Robinson\, Pennsylvania\, PA\, 15205\, United States
ORGANIZER;CN="Covenant Family Church":MAILTO:info@covenantfamily.cc
END:VEVENT
BEGIN:VEVENT
DTSTART;TZID=America/New_York:20240414T103000
DTEND;TZID=America/New_York:20240414T120000
DTSTAMP:20260424T070258
CREATED:20221121T153350Z
LAST-MODIFIED:20221121T153350Z
UID:8920-1713090600-1713096000@covenantfamily.cc
SUMMARY:Sunday Service
DESCRIPTION:
URL:https://covenantfamily.cc/event/sunday-service-2-2024-04-14/
LOCATION:Hilton Garden Inn\, 303 Park Manor Drive Robinson\, Pennsylvania\, PA\, 15205\, United States
ORGANIZER;CN="Covenant Family Church":MAILTO:info@covenantfamily.cc
END:VEVENT
BEGIN:VEVENT
DTSTART;TZID=America/New_York:20240407T103000
DTEND;TZID=America/New_York:20240407T120000
DTSTAMP:20260424T070258
CREATED:20221121T153350Z
LAST-MODIFIED:20221121T153350Z
UID:8919-1712485800-1712491200@covenantfamily.cc
SUMMARY:Sunday Service
DESCRIPTION:
URL:https://covenantfamily.cc/event/sunday-service-2-2024-04-07/
LOCATION:Hilton Garden Inn\, 303 Park Manor Drive Robinson\, Pennsylvania\, PA\, 15205\, United States
ORGANIZER;CN="Covenant Family Church":MAILTO:info@covenantfamily.cc
END:VEVENT
BEGIN:VEVENT
DTSTART;TZID=America/New_York:20240331T103000
DTEND;TZID=America/New_York:20240331T120000
DTSTAMP:20260424T070258
CREATED:20221121T153350Z
LAST-MODIFIED:20221121T153350Z
UID:8918-1711881000-1711886400@covenantfamily.cc
SUMMARY:Sunday Service
DESCRIPTION:
URL:https://covenantfamily.cc/event/sunday-service-2-2024-03-31/
LOCATION:Hilton Garden Inn\, 303 Park Manor Drive Robinson\, Pennsylvania\, PA\, 15205\, United States
ORGANIZER;CN="Covenant Family Church":MAILTO:info@covenantfamily.cc
END:VEVENT
BEGIN:VEVENT
DTSTART;TZID=America/New_York:20240324T103000
DTEND;TZID=America/New_York:20240324T120000
DTSTAMP:20260424T070258
CREATED:20221121T153350Z
LAST-MODIFIED:20221121T153350Z
UID:8917-1711276200-1711281600@covenantfamily.cc
SUMMARY:Sunday Service
DESCRIPTION:
URL:https://covenantfamily.cc/event/sunday-service-2-2024-03-24/
LOCATION:Hilton Garden Inn\, 303 Park Manor Drive Robinson\, Pennsylvania\, PA\, 15205\, United States
ORGANIZER;CN="Covenant Family Church":MAILTO:info@covenantfamily.cc
END:VEVENT
BEGIN:VEVENT
DTSTART;TZID=America/New_York:20240317T103000
DTEND;TZID=America/New_York:20240317T120000
DTSTAMP:20260424T070258
CREATED:20221121T153350Z
LAST-MODIFIED:20221121T153350Z
UID:8916-1710671400-1710676800@covenantfamily.cc
SUMMARY:Sunday Service
DESCRIPTION:
URL:https://covenantfamily.cc/event/sunday-service-2-2024-03-17/
LOCATION:Hilton Garden Inn\, 303 Park Manor Drive Robinson\, Pennsylvania\, PA\, 15205\, United States
ORGANIZER;CN="Covenant Family Church":MAILTO:info@covenantfamily.cc
END:VEVENT
BEGIN:VEVENT
DTSTART;TZID=America/New_York:20240310T103000
DTEND;TZID=America/New_York:20240310T120000
DTSTAMP:20260424T070258
CREATED:20221121T153350Z
LAST-MODIFIED:20221121T153350Z
UID:8915-1710066600-1710072000@covenantfamily.cc
SUMMARY:Sunday Service
DESCRIPTION:
URL:https://covenantfamily.cc/event/sunday-service-2-2024-03-10/
LOCATION:Hilton Garden Inn\, 303 Park Manor Drive Robinson\, Pennsylvania\, PA\, 15205\, United States
ORGANIZER;CN="Covenant Family Church":MAILTO:info@covenantfamily.cc
END:VEVENT
BEGIN:VEVENT
DTSTART;TZID=America/New_York:20240303T103000
DTEND;TZID=America/New_York:20240303T120000
DTSTAMP:20260424T070258
CREATED:20221121T153350Z
LAST-MODIFIED:20221121T153350Z
UID:8914-1709461800-1709467200@covenantfamily.cc
SUMMARY:Sunday Service
DESCRIPTION:
URL:https://covenantfamily.cc/event/sunday-service-2-2024-03-03/
LOCATION:Hilton Garden Inn\, 303 Park Manor Drive Robinson\, Pennsylvania\, PA\, 15205\, United States
ORGANIZER;CN="Covenant Family Church":MAILTO:info@covenantfamily.cc
END:VEVENT
BEGIN:VEVENT
DTSTART;TZID=America/New_York:20240225T103000
DTEND;TZID=America/New_York:20240225T120000
DTSTAMP:20260424T070258
CREATED:20221121T153350Z
LAST-MODIFIED:20221121T153350Z
UID:8913-1708857000-1708862400@covenantfamily.cc
SUMMARY:Sunday Service
DESCRIPTION:
URL:https://covenantfamily.cc/event/sunday-service-2-2024-02-25/
LOCATION:Hilton Garden Inn\, 303 Park Manor Drive Robinson\, Pennsylvania\, PA\, 15205\, United States
ORGANIZER;CN="Covenant Family Church":MAILTO:info@covenantfamily.cc
END:VEVENT
BEGIN:VEVENT
DTSTART;TZID=America/New_York:20240218T103000
DTEND;TZID=America/New_York:20240218T120000
DTSTAMP:20260424T070258
CREATED:20221121T153350Z
LAST-MODIFIED:20221121T153350Z
UID:8912-1708252200-1708257600@covenantfamily.cc
SUMMARY:Sunday Service
DESCRIPTION:
URL:https://covenantfamily.cc/event/sunday-service-2-2024-02-18/
LOCATION:Hilton Garden Inn\, 303 Park Manor Drive Robinson\, Pennsylvania\, PA\, 15205\, United States
ORGANIZER;CN="Covenant Family Church":MAILTO:info@covenantfamily.cc
END:VEVENT
BEGIN:VEVENT
DTSTART;TZID=America/New_York:20240211T103000
DTEND;TZID=America/New_York:20240211T120000
DTSTAMP:20260424T070258
CREATED:20221121T153350Z
LAST-MODIFIED:20221121T153350Z
UID:8911-1707647400-1707652800@covenantfamily.cc
SUMMARY:Sunday Service
DESCRIPTION:
URL:https://covenantfamily.cc/event/sunday-service-2-2024-02-11/
LOCATION:Hilton Garden Inn\, 303 Park Manor Drive Robinson\, Pennsylvania\, PA\, 15205\, United States
ORGANIZER;CN="Covenant Family Church":MAILTO:info@covenantfamily.cc
END:VEVENT
BEGIN:VEVENT
DTSTART;TZID=America/New_York:20240204T103000
DTEND;TZID=America/New_York:20240204T120000
DTSTAMP:20260424T070258
CREATED:20221121T153350Z
LAST-MODIFIED:20221121T153350Z
UID:8910-1707042600-1707048000@covenantfamily.cc
SUMMARY:Sunday Service
DESCRIPTION:
URL:https://covenantfamily.cc/event/sunday-service-2-2024-02-04/
LOCATION:Hilton Garden Inn\, 303 Park Manor Drive Robinson\, Pennsylvania\, PA\, 15205\, United States
ORGANIZER;CN="Covenant Family Church":MAILTO:info@covenantfamily.cc
END:VEVENT
BEGIN:VEVENT
DTSTART;TZID=America/New_York:20240128T103000
DTEND;TZID=America/New_York:20240128T120000
DTSTAMP:20260424T070258
CREATED:20221121T153350Z
LAST-MODIFIED:20221121T153350Z
UID:8909-1706437800-1706443200@covenantfamily.cc
SUMMARY:Sunday Service
DESCRIPTION:
URL:https://covenantfamily.cc/event/sunday-service-2-2024-01-28/
LOCATION:Hilton Garden Inn\, 303 Park Manor Drive Robinson\, Pennsylvania\, PA\, 15205\, United States
ORGANIZER;CN="Covenant Family Church":MAILTO:info@covenantfamily.cc
END:VEVENT
BEGIN:VEVENT
DTSTART;TZID=America/New_York:20240121T103000
DTEND;TZID=America/New_York:20240121T120000
DTSTAMP:20260424T070258
CREATED:20221121T153350Z
LAST-MODIFIED:20221121T153350Z
UID:8908-1705833000-1705838400@covenantfamily.cc
SUMMARY:Sunday Service
DESCRIPTION:
URL:https://covenantfamily.cc/event/sunday-service-2-2024-01-21/
LOCATION:Hilton Garden Inn\, 303 Park Manor Drive Robinson\, Pennsylvania\, PA\, 15205\, United States
ORGANIZER;CN="Covenant Family Church":MAILTO:info@covenantfamily.cc
END:VEVENT
BEGIN:VEVENT
DTSTART;TZID=America/New_York:20240114T103000
DTEND;TZID=America/New_York:20240114T120000
DTSTAMP:20260424T070258
CREATED:20221121T153350Z
LAST-MODIFIED:20221121T153350Z
UID:8907-1705228200-1705233600@covenantfamily.cc
SUMMARY:Sunday Service
DESCRIPTION:
URL:https://covenantfamily.cc/event/sunday-service-2-2024-01-14/
LOCATION:Hilton Garden Inn\, 303 Park Manor Drive Robinson\, Pennsylvania\, PA\, 15205\, United States
ORGANIZER;CN="Covenant Family Church":MAILTO:info@covenantfamily.cc
END:VEVENT
BEGIN:VEVENT
DTSTART;TZID=America/New_York:20240107T103000
DTEND;TZID=America/New_York:20240107T120000
DTSTAMP:20260424T070258
CREATED:20221121T153350Z
LAST-MODIFIED:20221121T153350Z
UID:8906-1704623400-1704628800@covenantfamily.cc
SUMMARY:Sunday Service
DESCRIPTION:
URL:https://covenantfamily.cc/event/sunday-service-2-2024-01-07/
LOCATION:Hilton Garden Inn\, 303 Park Manor Drive Robinson\, Pennsylvania\, PA\, 15205\, United States
ORGANIZER;CN="Covenant Family Church":MAILTO:info@covenantfamily.cc
END:VEVENT
BEGIN:VEVENT
DTSTART;TZID=America/New_York:20231231T103000
DTEND;TZID=America/New_York:20231231T120000
DTSTAMP:20260424T070258
CREATED:20221121T153350Z
LAST-MODIFIED:20221121T153350Z
UID:8905-1704018600-1704024000@covenantfamily.cc
SUMMARY:Sunday Service
DESCRIPTION:
URL:https://covenantfamily.cc/event/sunday-service-2-2023-12-31/
LOCATION:Hilton Garden Inn\, 303 Park Manor Drive Robinson\, Pennsylvania\, PA\, 15205\, United States
ORGANIZER;CN="Covenant Family Church":MAILTO:info@covenantfamily.cc
END:VEVENT
BEGIN:VEVENT
DTSTART;TZID=America/New_York:20231224T103000
DTEND;TZID=America/New_York:20231224T120000
DTSTAMP:20260424T070258
CREATED:20221121T153350Z
LAST-MODIFIED:20221121T153350Z
UID:8904-1703413800-1703419200@covenantfamily.cc
SUMMARY:Sunday Service
DESCRIPTION:
URL:https://covenantfamily.cc/event/sunday-service-2-2023-12-24/
LOCATION:Hilton Garden Inn\, 303 Park Manor Drive Robinson\, Pennsylvania\, PA\, 15205\, United States
ORGANIZER;CN="Covenant Family Church":MAILTO:info@covenantfamily.cc
END:VEVENT
BEGIN:VEVENT
DTSTART;TZID=America/New_York:20231217T103000
DTEND;TZID=America/New_York:20231217T120000
DTSTAMP:20260424T070258
CREATED:20221121T153350Z
LAST-MODIFIED:20221121T153350Z
UID:8903-1702809000-1702814400@covenantfamily.cc
SUMMARY:Sunday Service
DESCRIPTION:
URL:https://covenantfamily.cc/event/sunday-service-2-2023-12-17/
LOCATION:Hilton Garden Inn\, 303 Park Manor Drive Robinson\, Pennsylvania\, PA\, 15205\, United States
ORGANIZER;CN="Covenant Family Church":MAILTO:info@covenantfamily.cc
END:VEVENT
BEGIN:VEVENT
DTSTART;TZID=America/New_York:20231210T103000
DTEND;TZID=America/New_York:20231210T120000
DTSTAMP:20260424T070258
CREATED:20221121T153350Z
LAST-MODIFIED:20221121T153350Z
UID:8902-1702204200-1702209600@covenantfamily.cc
SUMMARY:Sunday Service
DESCRIPTION:
URL:https://covenantfamily.cc/event/sunday-service-2-2023-12-10/
LOCATION:Hilton Garden Inn\, 303 Park Manor Drive Robinson\, Pennsylvania\, PA\, 15205\, United States
ORGANIZER;CN="Covenant Family Church":MAILTO:info@covenantfamily.cc
END:VEVENT
BEGIN:VEVENT
DTSTART;TZID=America/New_York:20231203T103000
DTEND;TZID=America/New_York:20231203T120000
DTSTAMP:20260424T070258
CREATED:20221121T153350Z
LAST-MODIFIED:20221121T153350Z
UID:8901-1701599400-1701604800@covenantfamily.cc
SUMMARY:Sunday Service
DESCRIPTION:
URL:https://covenantfamily.cc/event/sunday-service-2-2023-12-03/
LOCATION:Hilton Garden Inn\, 303 Park Manor Drive Robinson\, Pennsylvania\, PA\, 15205\, United States
ORGANIZER;CN="Covenant Family Church":MAILTO:info@covenantfamily.cc
END:VEVENT
BEGIN:VEVENT
DTSTART;TZID=America/New_York:20231126T103000
DTEND;TZID=America/New_York:20231126T120000
DTSTAMP:20260424T070258
CREATED:20221121T153350Z
LAST-MODIFIED:20221121T153350Z
UID:8900-1700994600-1701000000@covenantfamily.cc
SUMMARY:Sunday Service
DESCRIPTION:
URL:https://covenantfamily.cc/event/sunday-service-2-2023-11-26/
LOCATION:Hilton Garden Inn\, 303 Park Manor Drive Robinson\, Pennsylvania\, PA\, 15205\, United States
ORGANIZER;CN="Covenant Family Church":MAILTO:info@covenantfamily.cc
END:VEVENT
BEGIN:VEVENT
DTSTART;TZID=America/New_York:20231119T103000
DTEND;TZID=America/New_York:20231119T120000
DTSTAMP:20260424T070258
CREATED:20221121T153350Z
LAST-MODIFIED:20221121T153350Z
UID:8899-1700389800-1700395200@covenantfamily.cc
SUMMARY:Sunday Service
DESCRIPTION:
URL:https://covenantfamily.cc/event/sunday-service-2-2023-11-19/
LOCATION:Hilton Garden Inn\, 303 Park Manor Drive Robinson\, Pennsylvania\, PA\, 15205\, United States
ORGANIZER;CN="Covenant Family Church":MAILTO:info@covenantfamily.cc
END:VEVENT
BEGIN:VEVENT
DTSTART;TZID=America/New_York:20231112T103000
DTEND;TZID=America/New_York:20231112T120000
DTSTAMP:20260424T070258
CREATED:20221121T153350Z
LAST-MODIFIED:20221121T153350Z
UID:8898-1699785000-1699790400@covenantfamily.cc
SUMMARY:Sunday Service
DESCRIPTION:
URL:https://covenantfamily.cc/event/sunday-service-2-2023-11-12/
LOCATION:Hilton Garden Inn\, 303 Park Manor Drive Robinson\, Pennsylvania\, PA\, 15205\, United States
ORGANIZER;CN="Covenant Family Church":MAILTO:info@covenantfamily.cc
END:VEVENT
BEGIN:VEVENT
DTSTART;TZID=America/New_York:20231105T103000
DTEND;TZID=America/New_York:20231105T120000
DTSTAMP:20260424T070258
CREATED:20221121T153350Z
LAST-MODIFIED:20221121T153350Z
UID:8897-1699180200-1699185600@covenantfamily.cc
SUMMARY:Sunday Service
DESCRIPTION:
URL:https://covenantfamily.cc/event/sunday-service-2-2023-11-05/
LOCATION:Hilton Garden Inn\, 303 Park Manor Drive Robinson\, Pennsylvania\, PA\, 15205\, United States
ORGANIZER;CN="Covenant Family Church":MAILTO:info@covenantfamily.cc
END:VEVENT
BEGIN:VEVENT
DTSTART;TZID=America/New_York:20231029T103000
DTEND;TZID=America/New_York:20231029T120000
DTSTAMP:20260424T070258
CREATED:20221121T153350Z
LAST-MODIFIED:20221121T153350Z
UID:8896-1698575400-1698580800@covenantfamily.cc
SUMMARY:Sunday Service
DESCRIPTION:
URL:https://covenantfamily.cc/event/sunday-service-2-2023-10-29/
LOCATION:Hilton Garden Inn\, 303 Park Manor Drive Robinson\, Pennsylvania\, PA\, 15205\, United States
ORGANIZER;CN="Covenant Family Church":MAILTO:info@covenantfamily.cc
END:VEVENT
BEGIN:VEVENT
DTSTART;TZID=America/New_York:20231022T103000
DTEND;TZID=America/New_York:20231022T120000
DTSTAMP:20260424T070258
CREATED:20221121T153350Z
LAST-MODIFIED:20221121T153350Z
UID:8895-1697970600-1697976000@covenantfamily.cc
SUMMARY:Sunday Service
DESCRIPTION:
URL:https://covenantfamily.cc/event/sunday-service-2-2023-10-22/
LOCATION:Hilton Garden Inn\, 303 Park Manor Drive Robinson\, Pennsylvania\, PA\, 15205\, United States
ORGANIZER;CN="Covenant Family Church":MAILTO:info@covenantfamily.cc
END:VEVENT
BEGIN:VEVENT
DTSTART;TZID=America/New_York:20231015T103000
DTEND;TZID=America/New_York:20231015T120000
DTSTAMP:20260424T070258
CREATED:20221121T153350Z
LAST-MODIFIED:20221121T153350Z
UID:8894-1697365800-1697371200@covenantfamily.cc
SUMMARY:Sunday Service
DESCRIPTION:
URL:https://covenantfamily.cc/event/sunday-service-2-2023-10-15/
LOCATION:Hilton Garden Inn\, 303 Park Manor Drive Robinson\, Pennsylvania\, PA\, 15205\, United States
ORGANIZER;CN="Covenant Family Church":MAILTO:info@covenantfamily.cc
END:VEVENT
END:VCALENDAR