BEGIN:VCALENDAR
VERSION:2.0
PRODID:-//Covenant Family Church - Pastors Keith and Lynn Eggert - ECPv6.13.2.1//NONSGML v1.0//EN
CALSCALE:GREGORIAN
METHOD:PUBLISH
X-WR-CALNAME:Covenant Family Church - Pastors Keith and Lynn Eggert
X-ORIGINAL-URL:https://covenantfamily.cc
X-WR-CALDESC:Events for Covenant Family Church - Pastors Keith and Lynn Eggert
REFRESH-INTERVAL;VALUE=DURATION:PT1H
X-Robots-Tag:noindex
X-PUBLISHED-TTL:PT1H
BEGIN:VTIMEZONE
TZID:America/New_York
BEGIN:DAYLIGHT
TZOFFSETFROM:-0500
TZOFFSETTO:-0400
TZNAME:EDT
DTSTART:20260308T070000
END:DAYLIGHT
BEGIN:STANDARD
TZOFFSETFROM:-0400
TZOFFSETTO:-0500
TZNAME:EST
DTSTART:20261101T060000
END:STANDARD
END:VTIMEZONE
BEGIN:VEVENT
DTSTART;TZID=America/New_York:20260510T103000
DTEND;TZID=America/New_York:20260510T120000
DTSTAMP:20260423T171018
CREATED:20221121T153350Z
LAST-MODIFIED:20221121T153350Z
UID:9070-1778409000-1778414400@covenantfamily.cc
SUMMARY:Sunday Service
DESCRIPTION:
URL:https://covenantfamily.cc/event/sunday-service-2-2026-05-10/
LOCATION:Hilton Garden Inn\, 303 Park Manor Drive Robinson\, Pennsylvania\, PA\, 15205\, United States
ORGANIZER;CN="Covenant Family Church":MAILTO:info@covenantfamily.cc
END:VEVENT
BEGIN:VEVENT
DTSTART;TZID=America/New_York:20260517T103000
DTEND;TZID=America/New_York:20260517T120000
DTSTAMP:20260423T171018
CREATED:20221121T153350Z
LAST-MODIFIED:20221121T153350Z
UID:9071-1779013800-1779019200@covenantfamily.cc
SUMMARY:Sunday Service
DESCRIPTION:
URL:https://covenantfamily.cc/event/sunday-service-2-2026-05-17/
LOCATION:Hilton Garden Inn\, 303 Park Manor Drive Robinson\, Pennsylvania\, PA\, 15205\, United States
ORGANIZER;CN="Covenant Family Church":MAILTO:info@covenantfamily.cc
END:VEVENT
BEGIN:VEVENT
DTSTART;TZID=America/New_York:20260524T103000
DTEND;TZID=America/New_York:20260524T120000
DTSTAMP:20260423T171018
CREATED:20221121T153350Z
LAST-MODIFIED:20221121T153350Z
UID:9072-1779618600-1779624000@covenantfamily.cc
SUMMARY:Sunday Service
DESCRIPTION:
URL:https://covenantfamily.cc/event/sunday-service-2-2026-05-24/
LOCATION:Hilton Garden Inn\, 303 Park Manor Drive Robinson\, Pennsylvania\, PA\, 15205\, United States
ORGANIZER;CN="Covenant Family Church":MAILTO:info@covenantfamily.cc
END:VEVENT
BEGIN:VEVENT
DTSTART;TZID=America/New_York:20260531T103000
DTEND;TZID=America/New_York:20260531T120000
DTSTAMP:20260423T171018
CREATED:20221121T153350Z
LAST-MODIFIED:20221121T153350Z
UID:9073-1780223400-1780228800@covenantfamily.cc
SUMMARY:Sunday Service
DESCRIPTION:
URL:https://covenantfamily.cc/event/sunday-service-2-2026-05-31/
LOCATION:Hilton Garden Inn\, 303 Park Manor Drive Robinson\, Pennsylvania\, PA\, 15205\, United States
ORGANIZER;CN="Covenant Family Church":MAILTO:info@covenantfamily.cc
END:VEVENT
BEGIN:VEVENT
DTSTART;TZID=America/New_York:20260607T103000
DTEND;TZID=America/New_York:20260607T120000
DTSTAMP:20260423T171018
CREATED:20221121T153350Z
LAST-MODIFIED:20221121T153350Z
UID:9074-1780828200-1780833600@covenantfamily.cc
SUMMARY:Sunday Service
DESCRIPTION:
URL:https://covenantfamily.cc/event/sunday-service-2-2026-06-07/
LOCATION:Hilton Garden Inn\, 303 Park Manor Drive Robinson\, Pennsylvania\, PA\, 15205\, United States
ORGANIZER;CN="Covenant Family Church":MAILTO:info@covenantfamily.cc
END:VEVENT
BEGIN:VEVENT
DTSTART;TZID=America/New_York:20260614T103000
DTEND;TZID=America/New_York:20260614T120000
DTSTAMP:20260423T171018
CREATED:20221121T153350Z
LAST-MODIFIED:20221121T153350Z
UID:9075-1781433000-1781438400@covenantfamily.cc
SUMMARY:Sunday Service
DESCRIPTION:
URL:https://covenantfamily.cc/event/sunday-service-2-2026-06-14/
LOCATION:Hilton Garden Inn\, 303 Park Manor Drive Robinson\, Pennsylvania\, PA\, 15205\, United States
ORGANIZER;CN="Covenant Family Church":MAILTO:info@covenantfamily.cc
END:VEVENT
BEGIN:VEVENT
DTSTART;TZID=America/New_York:20260621T103000
DTEND;TZID=America/New_York:20260621T120000
DTSTAMP:20260423T171018
CREATED:20221121T153350Z
LAST-MODIFIED:20221121T153350Z
UID:9076-1782037800-1782043200@covenantfamily.cc
SUMMARY:Sunday Service
DESCRIPTION:
URL:https://covenantfamily.cc/event/sunday-service-2-2026-06-21/
LOCATION:Hilton Garden Inn\, 303 Park Manor Drive Robinson\, Pennsylvania\, PA\, 15205\, United States
ORGANIZER;CN="Covenant Family Church":MAILTO:info@covenantfamily.cc
END:VEVENT
BEGIN:VEVENT
DTSTART;TZID=America/New_York:20260628T103000
DTEND;TZID=America/New_York:20260628T120000
DTSTAMP:20260423T171018
CREATED:20221121T153350Z
LAST-MODIFIED:20221121T153350Z
UID:9077-1782642600-1782648000@covenantfamily.cc
SUMMARY:Sunday Service
DESCRIPTION:
URL:https://covenantfamily.cc/event/sunday-service-2-2026-06-28/
LOCATION:Hilton Garden Inn\, 303 Park Manor Drive Robinson\, Pennsylvania\, PA\, 15205\, United States
ORGANIZER;CN="Covenant Family Church":MAILTO:info@covenantfamily.cc
END:VEVENT
BEGIN:VEVENT
DTSTART;TZID=America/New_York:20260705T103000
DTEND;TZID=America/New_York:20260705T120000
DTSTAMP:20260423T171018
CREATED:20221121T153350Z
LAST-MODIFIED:20221121T153350Z
UID:9081-1783247400-1783252800@covenantfamily.cc
SUMMARY:Sunday Service
DESCRIPTION:
URL:https://covenantfamily.cc/event/sunday-service-2-2026-07-05/
LOCATION:Hilton Garden Inn\, 303 Park Manor Drive Robinson\, Pennsylvania\, PA\, 15205\, United States
ORGANIZER;CN="Covenant Family Church":MAILTO:info@covenantfamily.cc
END:VEVENT
BEGIN:VEVENT
DTSTART;TZID=America/New_York:20260712T103000
DTEND;TZID=America/New_York:20260712T120000
DTSTAMP:20260423T171018
CREATED:20221121T153350Z
LAST-MODIFIED:20221121T153350Z
UID:9082-1783852200-1783857600@covenantfamily.cc
SUMMARY:Sunday Service
DESCRIPTION:
URL:https://covenantfamily.cc/event/sunday-service-2-2026-07-12/
LOCATION:Hilton Garden Inn\, 303 Park Manor Drive Robinson\, Pennsylvania\, PA\, 15205\, United States
ORGANIZER;CN="Covenant Family Church":MAILTO:info@covenantfamily.cc
END:VEVENT
BEGIN:VEVENT
DTSTART;TZID=America/New_York:20260719T103000
DTEND;TZID=America/New_York:20260719T120000
DTSTAMP:20260423T171018
CREATED:20221121T153350Z
LAST-MODIFIED:20221121T153350Z
UID:9083-1784457000-1784462400@covenantfamily.cc
SUMMARY:Sunday Service
DESCRIPTION:
URL:https://covenantfamily.cc/event/sunday-service-2-2026-07-19/
LOCATION:Hilton Garden Inn\, 303 Park Manor Drive Robinson\, Pennsylvania\, PA\, 15205\, United States
ORGANIZER;CN="Covenant Family Church":MAILTO:info@covenantfamily.cc
END:VEVENT
BEGIN:VEVENT
DTSTART;TZID=America/New_York:20260726T103000
DTEND;TZID=America/New_York:20260726T120000
DTSTAMP:20260423T171018
CREATED:20221121T153350Z
LAST-MODIFIED:20221121T153350Z
UID:9084-1785061800-1785067200@covenantfamily.cc
SUMMARY:Sunday Service
DESCRIPTION:
URL:https://covenantfamily.cc/event/sunday-service-2-2026-07-26/
LOCATION:Hilton Garden Inn\, 303 Park Manor Drive Robinson\, Pennsylvania\, PA\, 15205\, United States
ORGANIZER;CN="Covenant Family Church":MAILTO:info@covenantfamily.cc
END:VEVENT
BEGIN:VEVENT
DTSTART;TZID=America/New_York:20260802T103000
DTEND;TZID=America/New_York:20260802T120000
DTSTAMP:20260423T171018
CREATED:20221121T153350Z
LAST-MODIFIED:20221121T153350Z
UID:9085-1785666600-1785672000@covenantfamily.cc
SUMMARY:Sunday Service
DESCRIPTION:
URL:https://covenantfamily.cc/event/sunday-service-2-2026-08-02/
LOCATION:Hilton Garden Inn\, 303 Park Manor Drive Robinson\, Pennsylvania\, PA\, 15205\, United States
ORGANIZER;CN="Covenant Family Church":MAILTO:info@covenantfamily.cc
END:VEVENT
BEGIN:VEVENT
DTSTART;TZID=America/New_York:20260809T103000
DTEND;TZID=America/New_York:20260809T120000
DTSTAMP:20260423T171018
CREATED:20221121T153350Z
LAST-MODIFIED:20221121T153350Z
UID:9086-1786271400-1786276800@covenantfamily.cc
SUMMARY:Sunday Service
DESCRIPTION:
URL:https://covenantfamily.cc/event/sunday-service-2-2026-08-09/
LOCATION:Hilton Garden Inn\, 303 Park Manor Drive Robinson\, Pennsylvania\, PA\, 15205\, United States
ORGANIZER;CN="Covenant Family Church":MAILTO:info@covenantfamily.cc
END:VEVENT
BEGIN:VEVENT
DTSTART;TZID=America/New_York:20260816T103000
DTEND;TZID=America/New_York:20260816T120000
DTSTAMP:20260423T171018
CREATED:20221121T153350Z
LAST-MODIFIED:20221121T153350Z
UID:9087-1786876200-1786881600@covenantfamily.cc
SUMMARY:Sunday Service
DESCRIPTION:
URL:https://covenantfamily.cc/event/sunday-service-2-2026-08-16/
LOCATION:Hilton Garden Inn\, 303 Park Manor Drive Robinson\, Pennsylvania\, PA\, 15205\, United States
ORGANIZER;CN="Covenant Family Church":MAILTO:info@covenantfamily.cc
END:VEVENT
BEGIN:VEVENT
DTSTART;TZID=America/New_York:20260823T103000
DTEND;TZID=America/New_York:20260823T120000
DTSTAMP:20260423T171018
CREATED:20221121T153350Z
LAST-MODIFIED:20221121T153350Z
UID:9088-1787481000-1787486400@covenantfamily.cc
SUMMARY:Sunday Service
DESCRIPTION:
URL:https://covenantfamily.cc/event/sunday-service-2-2026-08-23/
LOCATION:Hilton Garden Inn\, 303 Park Manor Drive Robinson\, Pennsylvania\, PA\, 15205\, United States
ORGANIZER;CN="Covenant Family Church":MAILTO:info@covenantfamily.cc
END:VEVENT
BEGIN:VEVENT
DTSTART;TZID=America/New_York:20260830T103000
DTEND;TZID=America/New_York:20260830T120000
DTSTAMP:20260423T171018
CREATED:20221121T153350Z
LAST-MODIFIED:20221121T153350Z
UID:9089-1788085800-1788091200@covenantfamily.cc
SUMMARY:Sunday Service
DESCRIPTION:
URL:https://covenantfamily.cc/event/sunday-service-2-2026-08-30/
LOCATION:Hilton Garden Inn\, 303 Park Manor Drive Robinson\, Pennsylvania\, PA\, 15205\, United States
ORGANIZER;CN="Covenant Family Church":MAILTO:info@covenantfamily.cc
END:VEVENT
BEGIN:VEVENT
DTSTART;TZID=America/New_York:20260906T103000
DTEND;TZID=America/New_York:20260906T120000
DTSTAMP:20260423T171018
CREATED:20221121T153350Z
LAST-MODIFIED:20221121T153350Z
UID:9090-1788690600-1788696000@covenantfamily.cc
SUMMARY:Sunday Service
DESCRIPTION:
URL:https://covenantfamily.cc/event/sunday-service-2-2026-09-06/
LOCATION:Hilton Garden Inn\, 303 Park Manor Drive Robinson\, Pennsylvania\, PA\, 15205\, United States
ORGANIZER;CN="Covenant Family Church":MAILTO:info@covenantfamily.cc
END:VEVENT
BEGIN:VEVENT
DTSTART;TZID=America/New_York:20260913T103000
DTEND;TZID=America/New_York:20260913T120000
DTSTAMP:20260423T171018
CREATED:20221121T153350Z
LAST-MODIFIED:20221121T153350Z
UID:9091-1789295400-1789300800@covenantfamily.cc
SUMMARY:Sunday Service
DESCRIPTION:
URL:https://covenantfamily.cc/event/sunday-service-2-2026-09-13/
LOCATION:Hilton Garden Inn\, 303 Park Manor Drive Robinson\, Pennsylvania\, PA\, 15205\, United States
ORGANIZER;CN="Covenant Family Church":MAILTO:info@covenantfamily.cc
END:VEVENT
BEGIN:VEVENT
DTSTART;TZID=America/New_York:20260920T103000
DTEND;TZID=America/New_York:20260920T120000
DTSTAMP:20260423T171018
CREATED:20221121T153350Z
LAST-MODIFIED:20221121T153350Z
UID:9092-1789900200-1789905600@covenantfamily.cc
SUMMARY:Sunday Service
DESCRIPTION:
URL:https://covenantfamily.cc/event/sunday-service-2-2026-09-20/
LOCATION:Hilton Garden Inn\, 303 Park Manor Drive Robinson\, Pennsylvania\, PA\, 15205\, United States
ORGANIZER;CN="Covenant Family Church":MAILTO:info@covenantfamily.cc
END:VEVENT
BEGIN:VEVENT
DTSTART;TZID=America/New_York:20260927T103000
DTEND;TZID=America/New_York:20260927T120000
DTSTAMP:20260423T171018
CREATED:20221121T153350Z
LAST-MODIFIED:20221121T153350Z
UID:9093-1790505000-1790510400@covenantfamily.cc
SUMMARY:Sunday Service
DESCRIPTION:
URL:https://covenantfamily.cc/event/sunday-service-2-2026-09-27/
LOCATION:Hilton Garden Inn\, 303 Park Manor Drive Robinson\, Pennsylvania\, PA\, 15205\, United States
ORGANIZER;CN="Covenant Family Church":MAILTO:info@covenantfamily.cc
END:VEVENT
BEGIN:VEVENT
DTSTART;TZID=America/New_York:20261004T103000
DTEND;TZID=America/New_York:20261004T120000
DTSTAMP:20260423T171018
CREATED:20221121T153350Z
LAST-MODIFIED:20221121T153350Z
UID:9094-1791109800-1791115200@covenantfamily.cc
SUMMARY:Sunday Service
DESCRIPTION:
URL:https://covenantfamily.cc/event/sunday-service-2-2026-10-04/
LOCATION:Hilton Garden Inn\, 303 Park Manor Drive Robinson\, Pennsylvania\, PA\, 15205\, United States
ORGANIZER;CN="Covenant Family Church":MAILTO:info@covenantfamily.cc
END:VEVENT
BEGIN:VEVENT
DTSTART;TZID=America/New_York:20261011T103000
DTEND;TZID=America/New_York:20261011T120000
DTSTAMP:20260423T171018
CREATED:20221121T153350Z
LAST-MODIFIED:20221121T153350Z
UID:9095-1791714600-1791720000@covenantfamily.cc
SUMMARY:Sunday Service
DESCRIPTION:
URL:https://covenantfamily.cc/event/sunday-service-2-2026-10-11/
LOCATION:Hilton Garden Inn\, 303 Park Manor Drive Robinson\, Pennsylvania\, PA\, 15205\, United States
ORGANIZER;CN="Covenant Family Church":MAILTO:info@covenantfamily.cc
END:VEVENT
BEGIN:VEVENT
DTSTART;TZID=America/New_York:20261018T103000
DTEND;TZID=America/New_York:20261018T120000
DTSTAMP:20260423T171018
CREATED:20221121T153350Z
LAST-MODIFIED:20221121T153350Z
UID:9096-1792319400-1792324800@covenantfamily.cc
SUMMARY:Sunday Service
DESCRIPTION:
URL:https://covenantfamily.cc/event/sunday-service-2-2026-10-18/
LOCATION:Hilton Garden Inn\, 303 Park Manor Drive Robinson\, Pennsylvania\, PA\, 15205\, United States
ORGANIZER;CN="Covenant Family Church":MAILTO:info@covenantfamily.cc
END:VEVENT
BEGIN:VEVENT
DTSTART;TZID=America/New_York:20261025T103000
DTEND;TZID=America/New_York:20261025T120000
DTSTAMP:20260423T171018
CREATED:20221121T153350Z
LAST-MODIFIED:20221121T153350Z
UID:9097-1792924200-1792929600@covenantfamily.cc
SUMMARY:Sunday Service
DESCRIPTION:
URL:https://covenantfamily.cc/event/sunday-service-2-2026-10-25/
LOCATION:Hilton Garden Inn\, 303 Park Manor Drive Robinson\, Pennsylvania\, PA\, 15205\, United States
ORGANIZER;CN="Covenant Family Church":MAILTO:info@covenantfamily.cc
END:VEVENT
BEGIN:VEVENT
DTSTART;TZID=America/New_York:20261101T103000
DTEND;TZID=America/New_York:20261101T120000
DTSTAMP:20260423T171018
CREATED:20221121T153350Z
LAST-MODIFIED:20221121T153350Z
UID:9099-1793529000-1793534400@covenantfamily.cc
SUMMARY:Sunday Service
DESCRIPTION:
URL:https://covenantfamily.cc/event/sunday-service-2-2026-11-01/
LOCATION:Hilton Garden Inn\, 303 Park Manor Drive Robinson\, Pennsylvania\, PA\, 15205\, United States
ORGANIZER;CN="Covenant Family Church":MAILTO:info@covenantfamily.cc
END:VEVENT
BEGIN:VEVENT
DTSTART;TZID=America/New_York:20261108T103000
DTEND;TZID=America/New_York:20261108T120000
DTSTAMP:20260423T171018
CREATED:20221121T153350Z
LAST-MODIFIED:20221121T153350Z
UID:9100-1794133800-1794139200@covenantfamily.cc
SUMMARY:Sunday Service
DESCRIPTION:
URL:https://covenantfamily.cc/event/sunday-service-2-2026-11-08/
LOCATION:Hilton Garden Inn\, 303 Park Manor Drive Robinson\, Pennsylvania\, PA\, 15205\, United States
ORGANIZER;CN="Covenant Family Church":MAILTO:info@covenantfamily.cc
END:VEVENT
BEGIN:VEVENT
DTSTART;TZID=America/New_York:20261115T103000
DTEND;TZID=America/New_York:20261115T120000
DTSTAMP:20260423T171018
CREATED:20221121T153350Z
LAST-MODIFIED:20221121T153350Z
UID:9101-1794738600-1794744000@covenantfamily.cc
SUMMARY:Sunday Service
DESCRIPTION:
URL:https://covenantfamily.cc/event/sunday-service-2-2026-11-15/
LOCATION:Hilton Garden Inn\, 303 Park Manor Drive Robinson\, Pennsylvania\, PA\, 15205\, United States
ORGANIZER;CN="Covenant Family Church":MAILTO:info@covenantfamily.cc
END:VEVENT
BEGIN:VEVENT
DTSTART;TZID=America/New_York:20261122T103000
DTEND;TZID=America/New_York:20261122T120000
DTSTAMP:20260423T171018
CREATED:20221121T153350Z
LAST-MODIFIED:20221121T153350Z
UID:9102-1795343400-1795348800@covenantfamily.cc
SUMMARY:Sunday Service
DESCRIPTION:
URL:https://covenantfamily.cc/event/sunday-service-2-2026-11-22/
LOCATION:Hilton Garden Inn\, 303 Park Manor Drive Robinson\, Pennsylvania\, PA\, 15205\, United States
ORGANIZER;CN="Covenant Family Church":MAILTO:info@covenantfamily.cc
END:VEVENT
BEGIN:VEVENT
DTSTART;TZID=America/New_York:20261129T103000
DTEND;TZID=America/New_York:20261129T120000
DTSTAMP:20260423T171018
CREATED:20221121T153350Z
LAST-MODIFIED:20221121T153350Z
UID:9103-1795948200-1795953600@covenantfamily.cc
SUMMARY:Sunday Service
DESCRIPTION:
URL:https://covenantfamily.cc/event/sunday-service-2-2026-11-29/
LOCATION:Hilton Garden Inn\, 303 Park Manor Drive Robinson\, Pennsylvania\, PA\, 15205\, United States
ORGANIZER;CN="Covenant Family Church":MAILTO:info@covenantfamily.cc
END:VEVENT
END:VCALENDAR