BEGIN:VCALENDAR
VERSION:2.0
PRODID:-//Covenant Family Church - Pastors Keith and Lynn Eggert - ECPv6.13.2.1//NONSGML v1.0//EN
CALSCALE:GREGORIAN
METHOD:PUBLISH
X-WR-CALNAME:Covenant Family Church - Pastors Keith and Lynn Eggert
X-ORIGINAL-URL:https://covenantfamily.cc
X-WR-CALDESC:Events for Covenant Family Church - Pastors Keith and Lynn Eggert
REFRESH-INTERVAL;VALUE=DURATION:PT1H
X-Robots-Tag:noindex
X-PUBLISHED-TTL:PT1H
BEGIN:VTIMEZONE
TZID:America/New_York
BEGIN:DAYLIGHT
TZOFFSETFROM:-0500
TZOFFSETTO:-0400
TZNAME:EDT
DTSTART:20250309T070000
END:DAYLIGHT
BEGIN:STANDARD
TZOFFSETFROM:-0400
TZOFFSETTO:-0500
TZNAME:EST
DTSTART:20251102T060000
END:STANDARD
BEGIN:DAYLIGHT
TZOFFSETFROM:-0500
TZOFFSETTO:-0400
TZNAME:EDT
DTSTART:20260308T070000
END:DAYLIGHT
BEGIN:STANDARD
TZOFFSETFROM:-0400
TZOFFSETTO:-0500
TZNAME:EST
DTSTART:20261101T060000
END:STANDARD
END:VTIMEZONE
BEGIN:VEVENT
DTSTART;TZID=America/New_York:20260329T103000
DTEND;TZID=America/New_York:20260329T120000
DTSTAMP:20260423T145055
CREATED:20221121T153350Z
LAST-MODIFIED:20221121T153350Z
UID:9064-1774780200-1774785600@covenantfamily.cc
SUMMARY:Sunday Service
DESCRIPTION:
URL:https://covenantfamily.cc/event/sunday-service-2-2026-03-29/
LOCATION:Hilton Garden Inn\, 303 Park Manor Drive Robinson\, Pennsylvania\, PA\, 15205\, United States
ORGANIZER;CN="Covenant Family Church":MAILTO:info@covenantfamily.cc
END:VEVENT
BEGIN:VEVENT
DTSTART;TZID=America/New_York:20260322T103000
DTEND;TZID=America/New_York:20260322T120000
DTSTAMP:20260423T145055
CREATED:20221121T153350Z
LAST-MODIFIED:20221121T153350Z
UID:9063-1774175400-1774180800@covenantfamily.cc
SUMMARY:Sunday Service
DESCRIPTION:
URL:https://covenantfamily.cc/event/sunday-service-2-2026-03-22/
LOCATION:Hilton Garden Inn\, 303 Park Manor Drive Robinson\, Pennsylvania\, PA\, 15205\, United States
ORGANIZER;CN="Covenant Family Church":MAILTO:info@covenantfamily.cc
END:VEVENT
BEGIN:VEVENT
DTSTART;TZID=America/New_York:20260315T103000
DTEND;TZID=America/New_York:20260315T120000
DTSTAMP:20260423T145055
CREATED:20221121T153350Z
LAST-MODIFIED:20221121T153350Z
UID:9062-1773570600-1773576000@covenantfamily.cc
SUMMARY:Sunday Service
DESCRIPTION:
URL:https://covenantfamily.cc/event/sunday-service-2-2026-03-15/
LOCATION:Hilton Garden Inn\, 303 Park Manor Drive Robinson\, Pennsylvania\, PA\, 15205\, United States
ORGANIZER;CN="Covenant Family Church":MAILTO:info@covenantfamily.cc
END:VEVENT
BEGIN:VEVENT
DTSTART;TZID=America/New_York:20260308T103000
DTEND;TZID=America/New_York:20260308T120000
DTSTAMP:20260423T145055
CREATED:20221121T153350Z
LAST-MODIFIED:20221121T153350Z
UID:9061-1772965800-1772971200@covenantfamily.cc
SUMMARY:Sunday Service
DESCRIPTION:
URL:https://covenantfamily.cc/event/sunday-service-2-2026-03-08/
LOCATION:Hilton Garden Inn\, 303 Park Manor Drive Robinson\, Pennsylvania\, PA\, 15205\, United States
ORGANIZER;CN="Covenant Family Church":MAILTO:info@covenantfamily.cc
END:VEVENT
BEGIN:VEVENT
DTSTART;TZID=America/New_York:20260301T103000
DTEND;TZID=America/New_York:20260301T120000
DTSTAMP:20260423T145055
CREATED:20221121T153350Z
LAST-MODIFIED:20221121T153350Z
UID:9058-1772361000-1772366400@covenantfamily.cc
SUMMARY:Sunday Service
DESCRIPTION:
URL:https://covenantfamily.cc/event/sunday-service-2-2026-03-01/
LOCATION:Hilton Garden Inn\, 303 Park Manor Drive Robinson\, Pennsylvania\, PA\, 15205\, United States
ORGANIZER;CN="Covenant Family Church":MAILTO:info@covenantfamily.cc
END:VEVENT
BEGIN:VEVENT
DTSTART;TZID=America/New_York:20260222T103000
DTEND;TZID=America/New_York:20260222T120000
DTSTAMP:20260423T145055
CREATED:20221121T153350Z
LAST-MODIFIED:20221121T153350Z
UID:9054-1771756200-1771761600@covenantfamily.cc
SUMMARY:Sunday Service
DESCRIPTION:
URL:https://covenantfamily.cc/event/sunday-service-2-2026-02-22/
LOCATION:Hilton Garden Inn\, 303 Park Manor Drive Robinson\, Pennsylvania\, PA\, 15205\, United States
ORGANIZER;CN="Covenant Family Church":MAILTO:info@covenantfamily.cc
END:VEVENT
BEGIN:VEVENT
DTSTART;TZID=America/New_York:20260215T103000
DTEND;TZID=America/New_York:20260215T120000
DTSTAMP:20260423T145055
CREATED:20221121T153350Z
LAST-MODIFIED:20221121T153350Z
UID:9053-1771151400-1771156800@covenantfamily.cc
SUMMARY:Sunday Service
DESCRIPTION:
URL:https://covenantfamily.cc/event/sunday-service-2-2026-02-15/
LOCATION:Hilton Garden Inn\, 303 Park Manor Drive Robinson\, Pennsylvania\, PA\, 15205\, United States
ORGANIZER;CN="Covenant Family Church":MAILTO:info@covenantfamily.cc
END:VEVENT
BEGIN:VEVENT
DTSTART;TZID=America/New_York:20260208T103000
DTEND;TZID=America/New_York:20260208T120000
DTSTAMP:20260423T145055
CREATED:20221121T153350Z
LAST-MODIFIED:20221121T153350Z
UID:9052-1770546600-1770552000@covenantfamily.cc
SUMMARY:Sunday Service
DESCRIPTION:
URL:https://covenantfamily.cc/event/sunday-service-2-2026-02-08/
LOCATION:Hilton Garden Inn\, 303 Park Manor Drive Robinson\, Pennsylvania\, PA\, 15205\, United States
ORGANIZER;CN="Covenant Family Church":MAILTO:info@covenantfamily.cc
END:VEVENT
BEGIN:VEVENT
DTSTART;TZID=America/New_York:20260201T103000
DTEND;TZID=America/New_York:20260201T120000
DTSTAMP:20260423T145055
CREATED:20221121T153350Z
LAST-MODIFIED:20221121T153350Z
UID:9046-1769941800-1769947200@covenantfamily.cc
SUMMARY:Sunday Service
DESCRIPTION:
URL:https://covenantfamily.cc/event/sunday-service-2-2026-02-01/
LOCATION:Hilton Garden Inn\, 303 Park Manor Drive Robinson\, Pennsylvania\, PA\, 15205\, United States
ORGANIZER;CN="Covenant Family Church":MAILTO:info@covenantfamily.cc
END:VEVENT
BEGIN:VEVENT
DTSTART;TZID=America/New_York:20260125T103000
DTEND;TZID=America/New_York:20260125T120000
DTSTAMP:20260423T145055
CREATED:20221121T153350Z
LAST-MODIFIED:20221121T153350Z
UID:9045-1769337000-1769342400@covenantfamily.cc
SUMMARY:Sunday Service
DESCRIPTION:
URL:https://covenantfamily.cc/event/sunday-service-2-2026-01-25/
LOCATION:Hilton Garden Inn\, 303 Park Manor Drive Robinson\, Pennsylvania\, PA\, 15205\, United States
ORGANIZER;CN="Covenant Family Church":MAILTO:info@covenantfamily.cc
END:VEVENT
BEGIN:VEVENT
DTSTART;TZID=America/New_York:20260118T103000
DTEND;TZID=America/New_York:20260118T120000
DTSTAMP:20260423T145055
CREATED:20221121T153350Z
LAST-MODIFIED:20221121T153350Z
UID:9044-1768732200-1768737600@covenantfamily.cc
SUMMARY:Sunday Service
DESCRIPTION:
URL:https://covenantfamily.cc/event/sunday-service-2-2026-01-18/
LOCATION:Hilton Garden Inn\, 303 Park Manor Drive Robinson\, Pennsylvania\, PA\, 15205\, United States
ORGANIZER;CN="Covenant Family Church":MAILTO:info@covenantfamily.cc
END:VEVENT
BEGIN:VEVENT
DTSTART;TZID=America/New_York:20260111T103000
DTEND;TZID=America/New_York:20260111T120000
DTSTAMP:20260423T145055
CREATED:20221121T153350Z
LAST-MODIFIED:20221121T153350Z
UID:9043-1768127400-1768132800@covenantfamily.cc
SUMMARY:Sunday Service
DESCRIPTION:
URL:https://covenantfamily.cc/event/sunday-service-2-2026-01-11/
LOCATION:Hilton Garden Inn\, 303 Park Manor Drive Robinson\, Pennsylvania\, PA\, 15205\, United States
ORGANIZER;CN="Covenant Family Church":MAILTO:info@covenantfamily.cc
END:VEVENT
BEGIN:VEVENT
DTSTART;TZID=America/New_York:20260104T103000
DTEND;TZID=America/New_York:20260104T120000
DTSTAMP:20260423T145055
CREATED:20221121T153350Z
LAST-MODIFIED:20221121T153350Z
UID:9042-1767522600-1767528000@covenantfamily.cc
SUMMARY:Sunday Service
DESCRIPTION:
URL:https://covenantfamily.cc/event/sunday-service-2-2026-01-04/
LOCATION:Hilton Garden Inn\, 303 Park Manor Drive Robinson\, Pennsylvania\, PA\, 15205\, United States
ORGANIZER;CN="Covenant Family Church":MAILTO:info@covenantfamily.cc
END:VEVENT
BEGIN:VEVENT
DTSTART;TZID=America/New_York:20251228T103000
DTEND;TZID=America/New_York:20251228T120000
DTSTAMP:20260423T145055
CREATED:20221121T153350Z
LAST-MODIFIED:20221121T153350Z
UID:9041-1766917800-1766923200@covenantfamily.cc
SUMMARY:Sunday Service
DESCRIPTION:
URL:https://covenantfamily.cc/event/sunday-service-2-2025-12-28/
LOCATION:Hilton Garden Inn\, 303 Park Manor Drive Robinson\, Pennsylvania\, PA\, 15205\, United States
ORGANIZER;CN="Covenant Family Church":MAILTO:info@covenantfamily.cc
END:VEVENT
BEGIN:VEVENT
DTSTART;TZID=America/New_York:20251221T103000
DTEND;TZID=America/New_York:20251221T120000
DTSTAMP:20260423T145055
CREATED:20221121T153350Z
LAST-MODIFIED:20221121T153350Z
UID:9040-1766313000-1766318400@covenantfamily.cc
SUMMARY:Sunday Service
DESCRIPTION:
URL:https://covenantfamily.cc/event/sunday-service-2-2025-12-21/
LOCATION:Hilton Garden Inn\, 303 Park Manor Drive Robinson\, Pennsylvania\, PA\, 15205\, United States
ORGANIZER;CN="Covenant Family Church":MAILTO:info@covenantfamily.cc
END:VEVENT
BEGIN:VEVENT
DTSTART;TZID=America/New_York:20251214T103000
DTEND;TZID=America/New_York:20251214T120000
DTSTAMP:20260423T145055
CREATED:20221121T153350Z
LAST-MODIFIED:20221121T153350Z
UID:9039-1765708200-1765713600@covenantfamily.cc
SUMMARY:Sunday Service
DESCRIPTION:
URL:https://covenantfamily.cc/event/sunday-service-2-2025-12-14/
LOCATION:Hilton Garden Inn\, 303 Park Manor Drive Robinson\, Pennsylvania\, PA\, 15205\, United States
ORGANIZER;CN="Covenant Family Church":MAILTO:info@covenantfamily.cc
END:VEVENT
BEGIN:VEVENT
DTSTART;TZID=America/New_York:20251207T103000
DTEND;TZID=America/New_York:20251207T120000
DTSTAMP:20260423T145055
CREATED:20221121T153350Z
LAST-MODIFIED:20221121T153350Z
UID:9038-1765103400-1765108800@covenantfamily.cc
SUMMARY:Sunday Service
DESCRIPTION:
URL:https://covenantfamily.cc/event/sunday-service-2-2025-12-07/
LOCATION:Hilton Garden Inn\, 303 Park Manor Drive Robinson\, Pennsylvania\, PA\, 15205\, United States
ORGANIZER;CN="Covenant Family Church":MAILTO:info@covenantfamily.cc
END:VEVENT
BEGIN:VEVENT
DTSTART;TZID=America/New_York:20251130T103000
DTEND;TZID=America/New_York:20251130T120000
DTSTAMP:20260423T145055
CREATED:20221121T153350Z
LAST-MODIFIED:20221121T153350Z
UID:9037-1764498600-1764504000@covenantfamily.cc
SUMMARY:Sunday Service
DESCRIPTION:
URL:https://covenantfamily.cc/event/sunday-service-2-2025-11-30/
LOCATION:Hilton Garden Inn\, 303 Park Manor Drive Robinson\, Pennsylvania\, PA\, 15205\, United States
ORGANIZER;CN="Covenant Family Church":MAILTO:info@covenantfamily.cc
END:VEVENT
BEGIN:VEVENT
DTSTART;TZID=America/New_York:20251123T103000
DTEND;TZID=America/New_York:20251123T120000
DTSTAMP:20260423T145055
CREATED:20221121T153350Z
LAST-MODIFIED:20221121T153350Z
UID:9034-1763893800-1763899200@covenantfamily.cc
SUMMARY:Sunday Service
DESCRIPTION:
URL:https://covenantfamily.cc/event/sunday-service-2-2025-11-23/
LOCATION:Hilton Garden Inn\, 303 Park Manor Drive Robinson\, Pennsylvania\, PA\, 15205\, United States
ORGANIZER;CN="Covenant Family Church":MAILTO:info@covenantfamily.cc
END:VEVENT
BEGIN:VEVENT
DTSTART;TZID=America/New_York:20251116T103000
DTEND;TZID=America/New_York:20251116T120000
DTSTAMP:20260423T145055
CREATED:20221121T153350Z
LAST-MODIFIED:20221121T153350Z
UID:9033-1763289000-1763294400@covenantfamily.cc
SUMMARY:Sunday Service
DESCRIPTION:
URL:https://covenantfamily.cc/event/sunday-service-2-2025-11-16/
LOCATION:Hilton Garden Inn\, 303 Park Manor Drive Robinson\, Pennsylvania\, PA\, 15205\, United States
ORGANIZER;CN="Covenant Family Church":MAILTO:info@covenantfamily.cc
END:VEVENT
BEGIN:VEVENT
DTSTART;TZID=America/New_York:20251109T103000
DTEND;TZID=America/New_York:20251109T120000
DTSTAMP:20260423T145055
CREATED:20221121T153350Z
LAST-MODIFIED:20221121T153350Z
UID:9032-1762684200-1762689600@covenantfamily.cc
SUMMARY:Sunday Service
DESCRIPTION:
URL:https://covenantfamily.cc/event/sunday-service-2-2025-11-09/
LOCATION:Hilton Garden Inn\, 303 Park Manor Drive Robinson\, Pennsylvania\, PA\, 15205\, United States
ORGANIZER;CN="Covenant Family Church":MAILTO:info@covenantfamily.cc
END:VEVENT
BEGIN:VEVENT
DTSTART;TZID=America/New_York:20251102T103000
DTEND;TZID=America/New_York:20251102T120000
DTSTAMP:20260423T145055
CREATED:20221121T153350Z
LAST-MODIFIED:20221121T153350Z
UID:9031-1762079400-1762084800@covenantfamily.cc
SUMMARY:Sunday Service
DESCRIPTION:
URL:https://covenantfamily.cc/event/sunday-service-2-2025-11-02/
LOCATION:Hilton Garden Inn\, 303 Park Manor Drive Robinson\, Pennsylvania\, PA\, 15205\, United States
ORGANIZER;CN="Covenant Family Church":MAILTO:info@covenantfamily.cc
END:VEVENT
BEGIN:VEVENT
DTSTART;TZID=America/New_York:20251026T103000
DTEND;TZID=America/New_York:20251026T120000
DTSTAMP:20260423T145055
CREATED:20221121T153350Z
LAST-MODIFIED:20221121T153350Z
UID:9030-1761474600-1761480000@covenantfamily.cc
SUMMARY:Sunday Service
DESCRIPTION:
URL:https://covenantfamily.cc/event/sunday-service-2-2025-10-26/
LOCATION:Hilton Garden Inn\, 303 Park Manor Drive Robinson\, Pennsylvania\, PA\, 15205\, United States
ORGANIZER;CN="Covenant Family Church":MAILTO:info@covenantfamily.cc
END:VEVENT
BEGIN:VEVENT
DTSTART;TZID=America/New_York:20251019T103000
DTEND;TZID=America/New_York:20251019T120000
DTSTAMP:20260423T145055
CREATED:20221121T153350Z
LAST-MODIFIED:20221121T153350Z
UID:9029-1760869800-1760875200@covenantfamily.cc
SUMMARY:Sunday Service
DESCRIPTION:
URL:https://covenantfamily.cc/event/sunday-service-2-2025-10-19/
LOCATION:Hilton Garden Inn\, 303 Park Manor Drive Robinson\, Pennsylvania\, PA\, 15205\, United States
ORGANIZER;CN="Covenant Family Church":MAILTO:info@covenantfamily.cc
END:VEVENT
BEGIN:VEVENT
DTSTART;TZID=America/New_York:20251012T103000
DTEND;TZID=America/New_York:20251012T120000
DTSTAMP:20260423T145055
CREATED:20221121T153350Z
LAST-MODIFIED:20221121T153350Z
UID:9028-1760265000-1760270400@covenantfamily.cc
SUMMARY:Sunday Service
DESCRIPTION:
URL:https://covenantfamily.cc/event/sunday-service-2-2025-10-12/
LOCATION:Hilton Garden Inn\, 303 Park Manor Drive Robinson\, Pennsylvania\, PA\, 15205\, United States
ORGANIZER;CN="Covenant Family Church":MAILTO:info@covenantfamily.cc
END:VEVENT
BEGIN:VEVENT
DTSTART;TZID=America/New_York:20251005T103000
DTEND;TZID=America/New_York:20251005T120000
DTSTAMP:20260423T145055
CREATED:20221121T153350Z
LAST-MODIFIED:20221121T153350Z
UID:9027-1759660200-1759665600@covenantfamily.cc
SUMMARY:Sunday Service
DESCRIPTION:
URL:https://covenantfamily.cc/event/sunday-service-2-2025-10-05/
LOCATION:Hilton Garden Inn\, 303 Park Manor Drive Robinson\, Pennsylvania\, PA\, 15205\, United States
ORGANIZER;CN="Covenant Family Church":MAILTO:info@covenantfamily.cc
END:VEVENT
BEGIN:VEVENT
DTSTART;TZID=America/New_York:20250928T103000
DTEND;TZID=America/New_York:20250928T120000
DTSTAMP:20260423T145055
CREATED:20221121T153350Z
LAST-MODIFIED:20221121T153350Z
UID:9026-1759055400-1759060800@covenantfamily.cc
SUMMARY:Sunday Service
DESCRIPTION:
URL:https://covenantfamily.cc/event/sunday-service-2-2025-09-28/
LOCATION:Hilton Garden Inn\, 303 Park Manor Drive Robinson\, Pennsylvania\, PA\, 15205\, United States
ORGANIZER;CN="Covenant Family Church":MAILTO:info@covenantfamily.cc
END:VEVENT
BEGIN:VEVENT
DTSTART;TZID=America/New_York:20250921T103000
DTEND;TZID=America/New_York:20250921T120000
DTSTAMP:20260423T145055
CREATED:20221121T153350Z
LAST-MODIFIED:20221121T153350Z
UID:9025-1758450600-1758456000@covenantfamily.cc
SUMMARY:Sunday Service
DESCRIPTION:
URL:https://covenantfamily.cc/event/sunday-service-2-2025-09-21/
LOCATION:Hilton Garden Inn\, 303 Park Manor Drive Robinson\, Pennsylvania\, PA\, 15205\, United States
ORGANIZER;CN="Covenant Family Church":MAILTO:info@covenantfamily.cc
END:VEVENT
BEGIN:VEVENT
DTSTART;TZID=America/New_York:20250914T103000
DTEND;TZID=America/New_York:20250914T120000
DTSTAMP:20260423T145055
CREATED:20221121T153350Z
LAST-MODIFIED:20221121T153350Z
UID:9024-1757845800-1757851200@covenantfamily.cc
SUMMARY:Sunday Service
DESCRIPTION:
URL:https://covenantfamily.cc/event/sunday-service-2-2025-09-14/
LOCATION:Hilton Garden Inn\, 303 Park Manor Drive Robinson\, Pennsylvania\, PA\, 15205\, United States
ORGANIZER;CN="Covenant Family Church":MAILTO:info@covenantfamily.cc
END:VEVENT
BEGIN:VEVENT
DTSTART;TZID=America/New_York:20250907T103000
DTEND;TZID=America/New_York:20250907T120000
DTSTAMP:20260423T145055
CREATED:20221121T153350Z
LAST-MODIFIED:20221121T153350Z
UID:9023-1757241000-1757246400@covenantfamily.cc
SUMMARY:Sunday Service
DESCRIPTION:
URL:https://covenantfamily.cc/event/sunday-service-2-2025-09-07/
LOCATION:Hilton Garden Inn\, 303 Park Manor Drive Robinson\, Pennsylvania\, PA\, 15205\, United States
ORGANIZER;CN="Covenant Family Church":MAILTO:info@covenantfamily.cc
END:VEVENT
END:VCALENDAR