BEGIN:VCALENDAR
VERSION:2.0
PRODID:-//Covenant Family Church - Pastors Keith and Lynn Eggert - ECPv6.13.2.1//NONSGML v1.0//EN
CALSCALE:GREGORIAN
METHOD:PUBLISH
X-WR-CALNAME:Covenant Family Church - Pastors Keith and Lynn Eggert
X-ORIGINAL-URL:https://covenantfamily.cc
X-WR-CALDESC:Events for Covenant Family Church - Pastors Keith and Lynn Eggert
REFRESH-INTERVAL;VALUE=DURATION:PT1H
X-Robots-Tag:noindex
X-PUBLISHED-TTL:PT1H
BEGIN:VTIMEZONE
TZID:America/New_York
BEGIN:DAYLIGHT
TZOFFSETFROM:-0500
TZOFFSETTO:-0400
TZNAME:EDT
DTSTART:20130310T070000
END:DAYLIGHT
BEGIN:STANDARD
TZOFFSETFROM:-0400
TZOFFSETTO:-0500
TZNAME:EST
DTSTART:20131103T060000
END:STANDARD
END:VTIMEZONE
BEGIN:VEVENT
DTSTART;TZID=America/New_York:20131004T190000
DTEND;TZID=America/New_York:20131004T200000
DTSTAMP:20260424T002400
CREATED:20130829T234841Z
LAST-MODIFIED:20130829T234841Z
UID:1760-1380913200-1380916800@covenantfamily.cc
SUMMARY:Elevate Prayer
DESCRIPTION:Join us as we set aside the first Friday evening of every month for the sole purpose of cooperate prayer. Whether you are seasoned or just starting out in your prayer life\, this will be a great atmosphere to learn how develop your prayer life.
URL:https://covenantfamily.cc/event/elevate-prayer-meeting/
LOCATION:Courtyard Pittsburgh Airport\, 450 Cherrington Parkway\, Coraopolis\, PA\, 15108\, United States
CATEGORIES:Prayer
ATTACH;FMTTYPE=image/jpeg:https://covenantfamily.cc/wp-content/uploads/2013/03/Elevate.jpg
ORGANIZER;CN="Covenant Family Church":MAILTO:info@covenantfamily.cc
END:VEVENT
END:VCALENDAR