BEGIN:VCALENDAR
VERSION:2.0
PRODID:-//Covenant Family Church - Pastors Keith and Lynn Eggert - ECPv6.13.2.1//NONSGML v1.0//EN
CALSCALE:GREGORIAN
METHOD:PUBLISH
X-ORIGINAL-URL:https://covenantfamily.cc
X-WR-CALDESC:Events for Covenant Family Church - Pastors Keith and Lynn Eggert
REFRESH-INTERVAL;VALUE=DURATION:PT1H
X-Robots-Tag:noindex
X-PUBLISHED-TTL:PT1H
BEGIN:VTIMEZONE
TZID:America/New_York
BEGIN:DAYLIGHT
TZOFFSETFROM:-0500
TZOFFSETTO:-0400
TZNAME:EDT
DTSTART:20140309T070000
END:DAYLIGHT
BEGIN:STANDARD
TZOFFSETFROM:-0400
TZOFFSETTO:-0500
TZNAME:EST
DTSTART:20141102T060000
END:STANDARD
BEGIN:DAYLIGHT
TZOFFSETFROM:-0500
TZOFFSETTO:-0400
TZNAME:EDT
DTSTART:20150308T070000
END:DAYLIGHT
BEGIN:STANDARD
TZOFFSETFROM:-0400
TZOFFSETTO:-0500
TZNAME:EST
DTSTART:20151101T060000
END:STANDARD
END:VTIMEZONE
BEGIN:VEVENT
DTSTART;TZID=America/New_York:20150328T090000
DTEND;TZID=America/New_York:20150328T110000
DTSTAMP:20260424T065141
CREATED:20150307T170404Z
LAST-MODIFIED:20150307T171554Z
UID:4965-1427533200-1427540400@covenantfamily.cc
SUMMARY:Men's Fellowship Breakfast
DESCRIPTION:Join us for an encouraging time of fellowship at Panera on Saturday March 28. \n\n                \n                        Name\n                            \n                            \n                                                    \n                                                    First\n                                                \n                            \n                            \n                                                    \n                                                    Last\n                                                \n                            \n                        Email\n                            \n                        RSVP\n								\n								Count Me In\n							\n								\n								Count Me In and I'm Bringing a Guest\n							How Many Guests\n                            \n          \n            \n            \n            \n            \n            \n            \n            \n            \n            \n        \n                        Δ
URL:https://covenantfamily.cc/event/mens-fellowship-breakfast-march/
LOCATION:Panera Bread\, 250 McHolme Drive \, Pittsburgh\, PA\, 15272\, United States
CATEGORIES:Men's Events
ATTACH;FMTTYPE=image/jpeg:https://covenantfamily.cc/wp-content/uploads/2015/03/Mens-Breakfast-march.jpg
ORGANIZER;CN="Covenant Family Church":MAILTO:info@covenantfamily.cc
END:VEVENT
BEGIN:VEVENT
DTSTART;TZID=America/New_York:20150228T090000
DTEND;TZID=America/New_York:20150228T100000
DTSTAMP:20260424T065141
CREATED:20141220T185408Z
LAST-MODIFIED:20150111T023850Z
UID:4919-1425114000-1425117600@covenantfamily.cc
SUMMARY:Men's Breakfast Fellowship
DESCRIPTION:Join us for an encouraging time in the word over a tasty breakfast.
URL:https://covenantfamily.cc/event/mens-breakfast-fellowship-4/
LOCATION:Panera Bread\, 250 McHolme Drive \, Pittsburgh\, PA\, 15272\, United States
CATEGORIES:Men's Events
ATTACH;FMTTYPE=image/jpeg:https://covenantfamily.cc/wp-content/uploads/2014/12/Mens-Breakfast-feb.jpg
ORGANIZER;CN="Covenant Family Church":MAILTO:info@covenantfamily.cc
END:VEVENT
BEGIN:VEVENT
DTSTART;TZID=America/New_York:20141101T090000
DTEND;TZID=America/New_York:20141101T110000
DTSTAMP:20260424T065141
CREATED:20141017T153413Z
LAST-MODIFIED:20141017T153413Z
UID:4907-1414832400-1414839600@covenantfamily.cc
SUMMARY:Men's Breakfast Fellowship
DESCRIPTION:
URL:https://covenantfamily.cc/event/mens-breakfast-fellowship-3/
LOCATION:Panera Bread\, 250 McHolme Drive \, Pittsburgh\, PA\, 15272\, United States
CATEGORIES:Men's Events
ORGANIZER;CN="Covenant Family Church":MAILTO:info@covenantfamily.cc
END:VEVENT
BEGIN:VEVENT
DTSTART;TZID=America/New_York:20140920T090000
DTEND;TZID=America/New_York:20140920T110000
DTSTAMP:20260424T065141
CREATED:20140912T160747Z
LAST-MODIFIED:20140912T160747Z
UID:4892-1411203600-1411210800@covenantfamily.cc
SUMMARY:Men’s Breakfast Fellowship
DESCRIPTION:
URL:https://covenantfamily.cc/event/mens-breakfast-fellowship-2/
LOCATION:Panera Bread\, 250 McHolme Drive \, Pittsburgh\, PA\, 15272\, United States
CATEGORIES:Men's Events
ORGANIZER;CN="Covenant Family Church":MAILTO:info@covenantfamily.cc
END:VEVENT
BEGIN:VEVENT
DTSTART;TZID=America/New_York:20140726T090000
DTEND;TZID=America/New_York:20140726T110000
DTSTAMP:20260424T065141
CREATED:20140621T184315Z
LAST-MODIFIED:20140621T185049Z
UID:4358-1406365200-1406372400@covenantfamily.cc
SUMMARY:Men's Fellowship Breakfast
DESCRIPTION:Join us for food and fellowship.
URL:https://covenantfamily.cc/event/mens-fellowship-breakfast-2/
LOCATION:Panera Bread\, 250 McHolme Drive \, Pittsburgh\, PA\, 15272\, United States
CATEGORIES:Men's Events
ATTACH;FMTTYPE=image/jpeg:https://covenantfamily.cc/wp-content/uploads/2014/06/Mens-Breakfast.jpg
ORGANIZER;CN="Covenant Family Church":MAILTO:info@covenantfamily.cc
END:VEVENT
BEGIN:VEVENT
DTSTART;TZID=America/New_York:20140426T083000
DTEND;TZID=America/New_York:20140426T100000
DTSTAMP:20260424T065141
CREATED:20140413T050628Z
LAST-MODIFIED:20140413T050702Z
UID:1951-1398501000-1398506400@covenantfamily.cc
SUMMARY:Men's Breakfast Fellowship
DESCRIPTION:
URL:https://covenantfamily.cc/event/mens-breakfast-fellowship/
LOCATION:Panera Bread\, 250 McHolme Drive \, Pittsburgh\, PA\, 15272\, United States
CATEGORIES:Men's Events
ATTACH;FMTTYPE=image/jpeg:https://covenantfamily.cc/wp-content/uploads/2014/04/shutterstock_104902931.jpg
ORGANIZER;CN="Covenant Family Church":MAILTO:info@covenantfamily.cc
END:VEVENT
BEGIN:VEVENT
DTSTART;TZID=America/New_York:20140308T083000
DTEND;TZID=America/New_York:20140308T110000
DTSTAMP:20260424T065141
CREATED:20140308T154556Z
LAST-MODIFIED:20140304T142250Z
UID:1512-1394267400-1394276400@covenantfamily.cc
SUMMARY:Men's Fellowship Breakfast
DESCRIPTION:Men\, join us for our first ever men’s fellowship breakfast featuring speaker Jim Delong! \nJoin us Saturday\, April 27 at 9:30am for a fun time of fellowship\, food\, and faith! \nCost: $6 at the door \nJim DeLong has been in ministry since 1974\, touching lives with a message of hope and faith: a message of hope that God is greater than any adversity you may face and a message of faith that nothing is impossible to those who believe. Jim’s message is relevant for today. It stirs the heart\, helps answer life’s questions\, and draws people into God’s presence. \nJim also has a passion for helping others understand leadership from a biblical perspective. A master’s degree in Organizational Leadership has increased Jim’s ability to teach\, train\, and mentor leaders\, be it in the home\, at work\, or in ministry. \nJim and his wife\, Jean\, have been married for 39 years and live in Fort Worth\, Texas.
URL:https://covenantfamily.cc/event/mens-fellowship-breakfast/
LOCATION:Panera Bread\, 250 McHolme Drive \, Pittsburgh\, PA\, 15272\, United States
CATEGORIES:Men's Events
ORGANIZER;CN="Covenant Family Church":MAILTO:info@covenantfamily.cc
END:VEVENT
END:VCALENDAR