BEGIN:VCALENDAR
VERSION:2.0
PRODID:-//Covenant Family Church - Pastors Keith and Lynn Eggert - ECPv6.13.2.1//NONSGML v1.0//EN
CALSCALE:GREGORIAN
METHOD:PUBLISH
X-ORIGINAL-URL:https://covenantfamily.cc
X-WR-CALDESC:Events for Covenant Family Church - Pastors Keith and Lynn Eggert
REFRESH-INTERVAL;VALUE=DURATION:PT1H
X-Robots-Tag:noindex
X-PUBLISHED-TTL:PT1H
BEGIN:VTIMEZONE
TZID:America/New_York
BEGIN:DAYLIGHT
TZOFFSETFROM:-0500
TZOFFSETTO:-0400
TZNAME:EDT
DTSTART:20130310T070000
END:DAYLIGHT
BEGIN:STANDARD
TZOFFSETFROM:-0400
TZOFFSETTO:-0500
TZNAME:EST
DTSTART:20131103T060000
END:STANDARD
BEGIN:DAYLIGHT
TZOFFSETFROM:-0500
TZOFFSETTO:-0400
TZNAME:EDT
DTSTART:20140309T070000
END:DAYLIGHT
BEGIN:STANDARD
TZOFFSETFROM:-0400
TZOFFSETTO:-0500
TZNAME:EST
DTSTART:20141102T060000
END:STANDARD
BEGIN:DAYLIGHT
TZOFFSETFROM:-0500
TZOFFSETTO:-0400
TZNAME:EDT
DTSTART:20150308T070000
END:DAYLIGHT
BEGIN:STANDARD
TZOFFSETFROM:-0400
TZOFFSETTO:-0500
TZNAME:EST
DTSTART:20151101T060000
END:STANDARD
BEGIN:DAYLIGHT
TZOFFSETFROM:-0500
TZOFFSETTO:-0400
TZNAME:EDT
DTSTART:20160313T070000
END:DAYLIGHT
BEGIN:STANDARD
TZOFFSETFROM:-0400
TZOFFSETTO:-0500
TZNAME:EST
DTSTART:20161106T060000
END:STANDARD
BEGIN:DAYLIGHT
TZOFFSETFROM:-0500
TZOFFSETTO:-0400
TZNAME:EDT
DTSTART:20170312T070000
END:DAYLIGHT
BEGIN:STANDARD
TZOFFSETFROM:-0400
TZOFFSETTO:-0500
TZNAME:EST
DTSTART:20171105T060000
END:STANDARD
BEGIN:DAYLIGHT
TZOFFSETFROM:-0500
TZOFFSETTO:-0400
TZNAME:EDT
DTSTART:20180311T070000
END:DAYLIGHT
BEGIN:STANDARD
TZOFFSETFROM:-0400
TZOFFSETTO:-0500
TZNAME:EST
DTSTART:20181104T060000
END:STANDARD
BEGIN:DAYLIGHT
TZOFFSETFROM:-0500
TZOFFSETTO:-0400
TZNAME:EDT
DTSTART:20190310T070000
END:DAYLIGHT
BEGIN:STANDARD
TZOFFSETFROM:-0400
TZOFFSETTO:-0500
TZNAME:EST
DTSTART:20191103T060000
END:STANDARD
END:VTIMEZONE
BEGIN:VEVENT
DTSTART;TZID=America/New_York:20190623T103000
DTEND;TZID=America/New_York:20190623T113000
DTSTAMP:20260423T213717
CREATED:20190502T172636Z
LAST-MODIFIED:20190619T003233Z
UID:7935-1561285800-1561289400@covenantfamily.cc
SUMMARY:Remedy Healing School
DESCRIPTION:Inherent within God’s Word is the capacity\, the energy\, the ability\, and the nature to effect healing in your body. Learn about God’s healing power in these classes occurring before service once a month.
URL:https://covenantfamily.cc/event/remedy-healing-school-7-2-2/
LOCATION:Hilton Garden Inn\, 303 Park Manor Drive Robinson\, Pennsylvania\, PA\, 15205\, United States
CATEGORIES:Bible Study,Church Wide Event,Family,Healing,Prayer
ATTACH;FMTTYPE=image/jpeg:https://covenantfamily.cc/wp-content/uploads/2017/11/Remedy-mar.jpg
ORGANIZER;CN="Covenant Family Church":MAILTO:info@covenantfamily.cc
END:VEVENT
BEGIN:VEVENT
DTSTART;TZID=America/New_York:20190317T103000
DTEND;TZID=America/New_York:20190317T113000
DTSTAMP:20260423T213717
CREATED:20190302T154925Z
LAST-MODIFIED:20190302T154925Z
UID:7920-1552818600-1552822200@covenantfamily.cc
SUMMARY:Remedy Healing School
DESCRIPTION:Inherent within God’s Word is the capacity\, the energy\, the ability\, and the nature to effect healing in your body. Learn about God’s healing power in these classes occurring before service once a month.
URL:https://covenantfamily.cc/event/remedy-healing-school-7-2/
LOCATION:Hilton Garden Inn\, 303 Park Manor Drive Robinson\, Pennsylvania\, PA\, 15205\, United States
CATEGORIES:Bible Study,Church Wide Event,Family,Healing,Prayer
ATTACH;FMTTYPE=image/jpeg:https://covenantfamily.cc/wp-content/uploads/2017/11/Remedy-mar.jpg
ORGANIZER;CN="Covenant Family Church":MAILTO:info@covenantfamily.cc
END:VEVENT
BEGIN:VEVENT
DTSTART;TZID=America/New_York:20190210T093000
DTEND;TZID=America/New_York:20190210T103000
DTSTAMP:20260423T213717
CREATED:20180309T163216Z
LAST-MODIFIED:20190131T210522Z
UID:7448-1549791000-1549794600@covenantfamily.cc
SUMMARY:Remedy Healing School
DESCRIPTION:
URL:https://covenantfamily.cc/event/remedy-healing-school-7/
LOCATION:Hilton Garden Inn\, 303 Park Manor Drive Robinson\, Pennsylvania\, PA\, 15205\, United States
CATEGORIES:Bible Study,Church Wide Event,Family,Healing,Prayer
ORGANIZER;CN="Covenant Family Church":MAILTO:info@covenantfamily.cc
END:VEVENT
BEGIN:VEVENT
DTSTART;TZID=America/New_York:20180218T093000
DTEND;TZID=America/New_York:20180218T103000
DTSTAMP:20260423T213717
CREATED:20180125T201530Z
LAST-MODIFIED:20180125T201530Z
UID:7197-1518946200-1518949800@covenantfamily.cc
SUMMARY:Remedy Healing School
DESCRIPTION:
URL:https://covenantfamily.cc/event/remedy-healing-school-6/
LOCATION:Hilton Garden Inn\, 303 Park Manor Drive Robinson\, Pennsylvania\, PA\, 15205\, United States
CATEGORIES:Bible Study,Church Wide Event,Family,Healing,Prayer
ATTACH;FMTTYPE=image/png:https://covenantfamily.cc/wp-content/uploads/2017/11/Remedy-jan.png
ORGANIZER;CN="Covenant Family Church":MAILTO:info@covenantfamily.cc
END:VEVENT
BEGIN:VEVENT
DTSTART;TZID=America/New_York:20180209T190000
DTEND;TZID=America/New_York:20180209T190000
DTSTAMP:20260423T213717
CREATED:20180125T201355Z
LAST-MODIFIED:20180125T201621Z
UID:7198-1518202800-1518202800@covenantfamily.cc
SUMMARY:Engage
DESCRIPTION:Actively growing\, together.
URL:https://covenantfamily.cc/event/engage-3/
LOCATION:Hilton Garden Inn\, 303 Park Manor Drive Robinson\, Pennsylvania\, PA\, 15205\, United States
CATEGORIES:Bible Study,Church Wide Event,Prayer
ATTACH;FMTTYPE=image/png:https://covenantfamily.cc/wp-content/uploads/2017/11/engage-event_sliderJan.png
END:VEVENT
BEGIN:VEVENT
DTSTART;TZID=America/New_York:20180121T093000
DTEND;TZID=America/New_York:20180121T103000
DTSTAMP:20260423T213717
CREATED:20171229T051517Z
LAST-MODIFIED:20171229T051517Z
UID:7181-1516527000-1516530600@covenantfamily.cc
SUMMARY:Remedy Healing School
DESCRIPTION:
URL:https://covenantfamily.cc/event/remedy-healing-school-5/
LOCATION:Hilton Garden Inn\, 303 Park Manor Drive Robinson\, Pennsylvania\, PA\, 15205\, United States
CATEGORIES:Bible Study,Church Wide Event,Family,Healing,Prayer
ATTACH;FMTTYPE=image/png:https://covenantfamily.cc/wp-content/uploads/2017/11/Remedy-jan.png
ORGANIZER;CN="Covenant Family Church":MAILTO:info@covenantfamily.cc
END:VEVENT
BEGIN:VEVENT
DTSTART;TZID=America/New_York:20180112T190000
DTEND;TZID=America/New_York:20180112T200000
DTSTAMP:20260423T213717
CREATED:20171229T051416Z
LAST-MODIFIED:20171229T051416Z
UID:7180-1515783600-1515787200@covenantfamily.cc
SUMMARY:Engage
DESCRIPTION:Actively growing\, together.
URL:https://covenantfamily.cc/event/engage-2/
LOCATION:Hilton Garden Inn\, 303 Park Manor Drive Robinson\, Pennsylvania\, PA\, 15205\, United States
CATEGORIES:Bible Study,Church Wide Event,Prayer
ATTACH;FMTTYPE=image/png:https://covenantfamily.cc/wp-content/uploads/2017/11/engage-event_sliderJan.png
END:VEVENT
BEGIN:VEVENT
DTSTART;TZID=America/New_York:20171208T190000
DTEND;TZID=America/New_York:20171208T200000
DTSTAMP:20260423T213717
CREATED:20171201T085831Z
LAST-MODIFIED:20171201T085831Z
UID:7111-1512759600-1512763200@covenantfamily.cc
SUMMARY:Engage
DESCRIPTION:Actively growing\, together.
URL:https://covenantfamily.cc/event/engage/
LOCATION:Hilton Garden Inn\, 303 Park Manor Drive Robinson\, Pennsylvania\, PA\, 15205\, United States
CATEGORIES:Bible Study,Church Wide Event,Prayer
ATTACH;FMTTYPE=image/png:https://covenantfamily.cc/wp-content/uploads/2017/03/engage-event_sliderDec.png
END:VEVENT
BEGIN:VEVENT
DTSTART;TZID=America/New_York:20171103T200000
DTEND;TZID=America/New_York:20171103T213000
DTSTAMP:20260423T213717
CREATED:20171016T171407Z
LAST-MODIFIED:20171016T171407Z
UID:7093-1509739200-1509744600@covenantfamily.cc
SUMMARY:Engage
DESCRIPTION:Actively growing\, together.
URL:https://covenantfamily.cc/event/going-deeper-2-2/
LOCATION:Hilton Garden Inn\, 303 Park Manor Drive Robinson\, Pennsylvania\, PA\, 15205\, United States
CATEGORIES:Bible Study,Church Wide Event,Prayer
END:VEVENT
BEGIN:VEVENT
DTSTART;TZID=America/New_York:20171029T113000
DTEND;TZID=America/New_York:20171029T123000
DTSTAMP:20260423T213717
CREATED:20170921T211240Z
LAST-MODIFIED:20170921T211240Z
UID:7082-1509276600-1509280200@covenantfamily.cc
SUMMARY:Guest Speakers Len & Cathy Mink
DESCRIPTION:
URL:https://covenantfamily.cc/event/guest-speakers-len-cathy-mink-2/
LOCATION:Hilton Garden Inn\, 303 Park Manor Drive Robinson\, Pennsylvania\, PA\, 15205\, United States
CATEGORIES:Church Wide Event
ORGANIZER;CN="Covenant Family Church":MAILTO:info@covenantfamily.cc
END:VEVENT
BEGIN:VEVENT
DTSTART;TZID=America/New_York:20170929T200000
DTEND;TZID=America/New_York:20170929T213000
DTSTAMP:20260423T213717
CREATED:20160502T215351Z
LAST-MODIFIED:20170921T210435Z
UID:5572-1506715200-1506720600@covenantfamily.cc
SUMMARY:Engage
DESCRIPTION:Actively growing\, together.\n\n                \n                        \n                            Engage - Event Registration\n                            \n                        \n                        Name\n                            \n                            \n                                                    \n                                                    First\n                                                \n                            \n                            \n                                                    \n                                                    Last\n                                                \n                            \n                        Email\n                            \n                        RSVP\n								\n								Count Me In\n							\n								\n								Count Me In and I'm Bringing a Guest\n							How Many Guests\n                            \n          \n            \n            \n            \n            \n            \n            \n            \n            \n            \n        \n                        Δ
URL:https://covenantfamily.cc/event/going-deeper-2/
LOCATION:Hilton Garden Inn\, 303 Park Manor Drive Robinson\, Pennsylvania\, PA\, 15205\, United States
CATEGORIES:Bible Study,Church Wide Event,Prayer
END:VEVENT
BEGIN:VEVENT
DTSTART;TZID=America/New_York:20151101T093000
DTEND;TZID=America/New_York:20151101T100000
DTSTAMP:20260423T213717
CREATED:20141017T153518Z
LAST-MODIFIED:20151017T212519Z
UID:4908-1446370200-1446372000@covenantfamily.cc
SUMMARY:Elevate Prayer Meeting
DESCRIPTION:
URL:https://covenantfamily.cc/event/elevate-prayer-meeting-2/
LOCATION:Courtyard Pittsburgh Airport\, 450 Cherrington Parkway\, Coraopolis\, PA\, 15108\, United States
CATEGORIES:Church Wide Event,Prayer
ATTACH;FMTTYPE=image/jpeg:https://covenantfamily.cc/wp-content/uploads/2013/03/elevate-prayer.jpg
ORGANIZER;CN="Covenant Family Church":MAILTO:info@covenantfamily.cc
END:VEVENT
BEGIN:VEVENT
DTSTART;TZID=America/New_York:20150913T113000
DTEND;TZID=America/New_York:20150913T150000
DTSTAMP:20260423T213717
CREATED:20150517T010042Z
LAST-MODIFIED:20150730T002059Z
UID:5045-1442143800-1442156400@covenantfamily.cc
SUMMARY:Church In The Park
DESCRIPTION:Join us August 15 for a unique experience! We’re taking church to the park and throwing a barbecue bash along with it. \nJoin us at 11:30 at Moon Park. Directions below. \nMoon Park – Rotary Shelter\n1350 Ewing Rd\, Moon\, PA 15108
URL:https://covenantfamily.cc/event/church-in-the-park-2015/
LOCATION:Moon Park\, 1350 Joe DeNardo Way\, Moon Township\, PA\, United States
CATEGORIES:Church Wide Event
ATTACH;FMTTYPE=image/jpeg:https://covenantfamily.cc/wp-content/uploads/2015/05/Church-In-The-Park-ws.jpg
ORGANIZER;CN="Covenant Family Church":MAILTO:info@covenantfamily.cc
END:VEVENT
BEGIN:VEVENT
DTSTART;VALUE=DATE:20150816
DTEND;VALUE=DATE:20150817
DTSTAMP:20260423T213717
CREATED:20150717T142144Z
LAST-MODIFIED:20150717T163010Z
UID:5062-1439683200-1439769599@covenantfamily.cc
SUMMARY:Len and Cathy Mink
DESCRIPTION:Join us for a special time of ministry with Len and Cathy Mink. \nSunday at 10:30 am and 6:00pm
URL:https://covenantfamily.cc/event/len-and-cathy-mink/
LOCATION:Courtyard Pittsburgh Airport\, 450 Cherrington Parkway\, Coraopolis\, PA\, 15108\, United States
CATEGORIES:Church Wide Event
ATTACH;FMTTYPE=image/jpeg:https://covenantfamily.cc/wp-content/uploads/2015/07/len-and-catthy-screen-web.jpg
ORGANIZER;CN="Covenant Family Church":MAILTO:info@covenantfamily.cc
END:VEVENT
BEGIN:VEVENT
DTSTART;TZID=America/New_York:20150614T103000
DTEND;TZID=America/New_York:20150614T120000
DTSTAMP:20260423T213717
CREATED:20140828T135402Z
LAST-MODIFIED:20150613T191051Z
UID:4888-1434277800-1434283200@covenantfamily.cc
SUMMARY:Worship With David DeMarco
DESCRIPTION:Guest Worship Leader David DeMarco will be with us June 14th for a dynamic time of praise and worship.
URL:https://covenantfamily.cc/event/worship-david-demarco/
LOCATION:Courtyard Pittsburgh Airport\, 450 Cherrington Parkway\, Coraopolis\, PA\, 15108\, United States
CATEGORIES:Church Wide Event
ATTACH;FMTTYPE=image/jpeg:https://covenantfamily.cc/wp-content/uploads/2014/08/Worship-Event-green-01.jpg
ORGANIZER;CN="Covenant Family Church":MAILTO:info@covenantfamily.cc
END:VEVENT
BEGIN:VEVENT
DTSTART;TZID=America/New_York:20150522T190000
DTEND;TZID=America/New_York:20150522T203000
DTSTAMP:20260423T213717
CREATED:20150307T204228Z
LAST-MODIFIED:20150501T043051Z
UID:4998-1432321200-1432326600@covenantfamily.cc
SUMMARY:Connect
DESCRIPTION:Connect is a new group kicking off Friday May 22nd 7pm At Panera bread. Join us for a relevant message in a relaxed atmosphere. \nAges 16 and up. \n  \n\n                \n                        Name\n                            \n                            \n                                                    \n                                                    First\n                                                \n                            \n                            \n                                                    \n                                                    Last\n                                                \n                            \n                        Email\n                            \n                        RSVP\n								\n								Count Me In\n							\n								\n								Count Me In and I'm Bringing a Guest\n							How Many Guests\n                            \n          \n            \n            \n            \n            \n            \n            \n            \n            \n            \n        \n                        Δ
URL:https://covenantfamily.cc/event/connect/
LOCATION:Panera Bread\, 250 McHolme Drive \, Pittsburgh\, PA\, 15272\, United States
CATEGORIES:Church Wide Event,Family,Young Adults,Youth
ATTACH;FMTTYPE=image/jpeg:https://covenantfamily.cc/wp-content/uploads/2015/03/Connect-Banner-generic.jpg
ORGANIZER;CN="Covenant Family Church":MAILTO:info@covenantfamily.cc
END:VEVENT
BEGIN:VEVENT
DTSTART;TZID=America/New_York:20150426T114500
DTEND;TZID=America/New_York:20150426T120000
DTSTAMP:20260423T213717
CREATED:20150409T055714Z
LAST-MODIFIED:20150409T060316Z
UID:5030-1430048700-1430049600@covenantfamily.cc
SUMMARY:Baptism
DESCRIPTION:We will be celebrating new life in Christ through Baptism on Sunday April 26 at 11:45am in the pool area at the Courtyard. \nIf you would like to be baptized\, please fill out the form below.\n \n\n                \n                        Name\n                            \n                            \n                                                    \n                                                    First\n                                                \n                            \n                            \n                                                    \n                                                    Last\n                                                \n                            \n                        Email\n                            \n                        Phone\n                            \n          \n            \n            \n            \n            \n            \n            \n            \n            \n            \n        \n                        Δ
URL:https://covenantfamily.cc/event/baptism/
LOCATION:Courtyard Pittsburgh Airport\, 450 Cherrington Parkway\, Coraopolis\, PA\, 15108\, United States
CATEGORIES:Church Wide Event
ATTACH;FMTTYPE=image/jpeg:https://covenantfamily.cc/wp-content/uploads/2015/04/Baptism-Covenant-April-26-Event.jpg
ORGANIZER;CN="Covenant Family Church":MAILTO:info@covenantfamily.cc
END:VEVENT
BEGIN:VEVENT
DTSTART;TZID=America/New_York:20150208T103000
DTEND;TZID=America/New_York:20150208T120000
DTSTAMP:20260423T213717
CREATED:20150124T183613Z
LAST-MODIFIED:20150124T183613Z
UID:4936-1423391400-1423396800@covenantfamily.cc
SUMMARY:Guest Speaker - Pastor Matthew Reynolds
DESCRIPTION:Join us Sunday\, Feb. 8 for a dynamic time in the word with guest speaker Pastor Matthew Reynolds.
URL:https://covenantfamily.cc/event/guest-speaker-pastor-matthew-reynolds/
LOCATION:Courtyard Pittsburgh Airport\, 450 Cherrington Parkway\, Coraopolis\, PA\, 15108\, United States
CATEGORIES:Church Wide Event
ORGANIZER;CN="Covenant Family Church":MAILTO:info@covenantfamily.cc
END:VEVENT
BEGIN:VEVENT
DTSTART;VALUE=DATE:20141025
DTEND;VALUE=DATE:20141027
DTSTAMP:20260423T213717
CREATED:20140621T192639Z
LAST-MODIFIED:20140621T192639Z
UID:4366-1414195200-1414367999@covenantfamily.cc
SUMMARY:Guest Speakers - Len and Cathy Mink
DESCRIPTION:Join us for powerful services with Len and Cathy Mink.
URL:https://covenantfamily.cc/event/guest-speakers-len-cathy-mink/
LOCATION:Courtyard Pittsburgh Airport\, 450 Cherrington Parkway\, Coraopolis\, PA\, 15108\, United States
CATEGORIES:Church Wide Event
ATTACH;FMTTYPE=image/jpeg:https://covenantfamily.cc/wp-content/uploads/2014/06/Len-14.jpg
ORGANIZER;CN="Covenant Family Church":MAILTO:info@covenantfamily.cc
END:VEVENT
BEGIN:VEVENT
DTSTART;TZID=America/New_York:20140907T103000
DTEND;TZID=America/New_York:20140907T120000
DTSTAMP:20260423T213717
CREATED:20140621T191459Z
LAST-MODIFIED:20140621T191459Z
UID:4364-1410085800-1410091200@covenantfamily.cc
SUMMARY:Guest Speaker - Todd Levin
DESCRIPTION:
URL:https://covenantfamily.cc/event/guest-speaker-todd-levin/
LOCATION:Courtyard Pittsburgh Airport\, 450 Cherrington Parkway\, Coraopolis\, PA\, 15108\, United States
CATEGORIES:Church Wide Event
ATTACH;FMTTYPE=image/jpeg:https://covenantfamily.cc/wp-content/uploads/2014/06/todd-levin.jpg
ORGANIZER;CN="Covenant Family Church":MAILTO:info@covenantfamily.cc
END:VEVENT
BEGIN:VEVENT
DTSTART;TZID=America/New_York:20140831T103000
DTEND;TZID=America/New_York:20140831T150000
DTSTAMP:20260423T213717
CREATED:20140621T201735Z
LAST-MODIFIED:20140621T211704Z
UID:4374-1409481000-1409497200@covenantfamily.cc
SUMMARY:BBQ Sunday
DESCRIPTION:Join us Sunday\, August 31 at Moon Park for our annual BBQ Sunday. Barbecue immediately following service. \nWe will be meeting at the Rotary Pavilion.
URL:https://covenantfamily.cc/event/bbq-sunday/
LOCATION:Moon Park\, 1350 Joe DeNardo Way\, Moon Township\, PA\, United States
CATEGORIES:Church Wide Event
ATTACH;FMTTYPE=image/jpeg:https://covenantfamily.cc/wp-content/uploads/2014/06/BBQ-Sunday-new.jpg
ORGANIZER;CN="Covenant Family Church":MAILTO:info@covenantfamily.cc
END:VEVENT
BEGIN:VEVENT
DTSTART;TZID=America/New_York:20140810T103000
DTEND;TZID=America/New_York:20140810T120000
DTSTAMP:20260423T213717
CREATED:20140809T143538Z
LAST-MODIFIED:20151217T040220Z
UID:4421-1407666600-1407672000@covenantfamily.cc
SUMMARY:Sunday Worship Service
DESCRIPTION:Learn To Live Victoriously in Faith\, Family\, and in Life at Covenant Family Church\nJoin us Sundays at 10:30am for a dynamic service. Pastors Keith and Lynn Eggert.
URL:https://covenantfamily.cc/event/sunday-worship-service/
LOCATION:Courtyard Pittsburgh Airport\, 450 Cherrington Parkway\, Coraopolis\, PA\, 15108\, United States
CATEGORIES:Church Wide Event
ORGANIZER;CN="Covenant Family Church":MAILTO:info@covenantfamily.cc
END:VEVENT
BEGIN:VEVENT
DTSTART;TZID=America/New_York:20140726T080000
DTEND;TZID=America/New_York:20140726T170000
DTSTAMP:20260423T213717
CREATED:20140726T200053Z
LAST-MODIFIED:20140726T200119Z
UID:4407-1406361600-1406394000@covenantfamily.cc
SUMMARY:Guest Speaker Todd Levin
DESCRIPTION:Join us for a dynamic message from special guest Todd Levin.
URL:https://covenantfamily.cc/event/todd-levin/
LOCATION:Courtyard Pittsburgh Airport\, 450 Cherrington Parkway\, Coraopolis\, PA\, 15108\, United States
CATEGORIES:Church Wide Event
ATTACH;FMTTYPE=image/jpeg:https://covenantfamily.cc/wp-content/uploads/2014/07/levin.jpg
ORGANIZER;CN="Covenant Family Church":MAILTO:info@covenantfamily.cc
END:VEVENT
BEGIN:VEVENT
DTSTART;TZID=America/New_York:20140629T103000
DTEND;TZID=America/New_York:20140629T120000
DTSTAMP:20260423T213717
CREATED:20140621T190738Z
LAST-MODIFIED:20140621T190738Z
UID:4362-1404037800-1404043200@covenantfamily.cc
SUMMARY:Guest Speaker - Dale K. Cowher
DESCRIPTION:Join us for a dynamic message from special guest Dale K. Cowher – brother of Bill Cowher.
URL:https://covenantfamily.cc/event/guest-speaker-dale-k-cowher/
LOCATION:Courtyard Pittsburgh Airport\, 450 Cherrington Parkway\, Coraopolis\, PA\, 15108\, United States
CATEGORIES:Church Wide Event
ATTACH;FMTTYPE=image/jpeg:https://covenantfamily.cc/wp-content/uploads/2014/06/Cowher.jpg
ORGANIZER;CN="Covenant Family Church":MAILTO:info@covenantfamily.cc
END:VEVENT
BEGIN:VEVENT
DTSTART;TZID=America/New_York:20140622T103000
DTEND;TZID=America/New_York:20140622T120000
DTSTAMP:20260423T213717
CREATED:20140609T153132Z
LAST-MODIFIED:20140609T153132Z
UID:4352-1403433000-1403438400@covenantfamily.cc
SUMMARY:Sunday Worship Service
DESCRIPTION:Learn To Live Victoriously in Faith\, Family\, and in Life at Covenant Family Church \nJoin us Sundays at 10:30am for a dynamic service. Pastors Keith and Lynn Eggert.
URL:https://covenantfamily.cc/event/sunday-worship-service-3/
LOCATION:Courtyard Pittsburgh Airport\, 450 Cherrington Parkway\, Coraopolis\, PA\, 15108\, United States
CATEGORIES:Church Wide Event
ORGANIZER;CN="Covenant Family Church":MAILTO:info@covenantfamily.cc
END:VEVENT
BEGIN:VEVENT
DTSTART;TZID=America/New_York:20140615T103000
DTEND;TZID=America/New_York:20140615T120000
DTSTAMP:20260423T213717
CREATED:20140609T152834Z
LAST-MODIFIED:20140609T152834Z
UID:4351-1402828200-1402833600@covenantfamily.cc
SUMMARY:Sunday Worship Service
DESCRIPTION:Learn To Live Victoriously in Faith\, Family\, and in Life at Covenant Family Church \nJoin us Sundays at 10:30am for a dynamic service. Pastors Keith and Lynn Eggert.
URL:https://covenantfamily.cc/event/sunday-worship-service-2/
LOCATION:Courtyard Pittsburgh Airport\, 450 Cherrington Parkway\, Coraopolis\, PA\, 15108\, United States
CATEGORIES:Church Wide Event
ORGANIZER;CN="Covenant Family Church":MAILTO:info@covenantfamily.cc
END:VEVENT
BEGIN:VEVENT
DTSTART;TZID=America/New_York:20131222T123000
DTEND;TZID=America/New_York:20131222T140000
DTSTAMP:20260423T213717
CREATED:20131123T235020Z
LAST-MODIFIED:20131123T235020Z
UID:1809-1387715400-1387720800@covenantfamily.cc
SUMMARY:Christmas Dinner Fellowship
DESCRIPTION:We will be celebrating our Christmas Luncheon Fellowship Sunday December 22\, 2013 @ 12:30 pm. \nLocation- Bravo Restaurant in North Fayette Twp.\nPrice $16.00 adults Kids 12 and under $9.00
URL:https://covenantfamily.cc/event/christmas-dinner-fellowship/
LOCATION:Bravo Restaurant\, 211 Summit Park Dr.\, Pittsburgh\, 15275
CATEGORIES:Church Wide Event
ATTACH;FMTTYPE=image/gif:https://covenantfamily.cc/wp-content/uploads/2013/11/Christmas.gif
ORGANIZER;CN="Covenant Family Church":MAILTO:info@covenantfamily.cc
END:VEVENT
BEGIN:VEVENT
DTSTART;TZID=America/New_York:20131102T103000
DTEND;TZID=America/New_York:20131103T200000
DTSTAMP:20260423T213717
CREATED:20130921T141633Z
LAST-MODIFIED:20131027T011514Z
UID:1783-1383388200-1383508800@covenantfamily.cc
SUMMARY:Len & Cathy Mink Life Changing Seminar
DESCRIPTION:Join Len & Cathy Mink for a Life Changing Seminar here at Covenant Family Church. \n\nSession 1: Saturday November 2 at 10:30 am\nSession 2: Sunday November 3 at 10:30 am\nSession 3: Sunday November 3 at 6:00 pm\n\n[separator top=”40″] \nLen and Cathy Mink have traveled the globe ministering the life-changing Gospel of Jesus Christ for over forty years.  They host a daily television show called Len and Cathy\, seen in 173 countries on Skyangel\, DirecTV and Time Warner network.  They also regularly host The Road Show on the Oasis Radio Network. \nLen holds a Doctorate Degree in Sacred Music from Life Christian University.  He has lead praise and worship for Kenneth Copeland in the Believer’s Conventions for over thirty years.  He has recorded over 30 solo worship albums\, as well as many Gospel Duck projects\, his ministry to children. \nCathy is a graduate of Ohio State University and RHEMA Bible Training Center.  She has a daily radio broadcast on The Oasis Network\, and speaks in women’s conferences regularly on marriage and family\, abundance\, and walking in the plan of God. \nBefore they entered the ministry\, they had successful careers in show business (Len) and modeling (Cathy).  Despite the seeming fame and glamour\, they both felt empty\, and made a decision to leave all of the deception\, immorality and shallowness behind. \nThey are both long-time members of The Tribe of Judah motorcycle ministry\, reaching thousands of bikers and outlaw gangs in rallies\, prisons and meetings across the U.S. and abroad. \nAs Len and Cathy minister together\, they bring the fresh\, authentic presence of God wherever they go and usher in spontaneous praise\, deep worship and life changing breakthrough.
URL:https://covenantfamily.cc/event/len-cathy-mink-life-changing-seminar/
LOCATION:Courtyard Pittsburgh Airport\, 450 Cherrington Parkway\, Coraopolis\, PA\, 15108\, United States
CATEGORIES:Church Wide Event
ATTACH;FMTTYPE=image/jpeg:https://covenantfamily.cc/wp-content/uploads/2013/09/Len-event.jpg
ORGANIZER;CN="Covenant Family Church":MAILTO:info@covenantfamily.cc
END:VEVENT
BEGIN:VEVENT
DTSTART;VALUE=DATE:20130913
DTEND;VALUE=DATE:20130914
DTSTAMP:20260423T213717
CREATED:20130829T235941Z
LAST-MODIFIED:20130829T235941Z
UID:1761-1379030400-1379116799@covenantfamily.cc
SUMMARY:Change Experience with Creflo Dollar
DESCRIPTION:Got problems? God has answers! \nJoin Creflo Dollar Ministries at the David L. Lawrence Convention Center in Pittsburgh\, PA.
URL:https://covenantfamily.cc/event/change-experience-creflo-dollar/
LOCATION:David L. Lawrence Convention Center\, 1000 Fort Duquesne Boulevard\, Pittsburgh\, 15222
CATEGORIES:Church Wide Event
ATTACH;FMTTYPE=image/jpeg:https://covenantfamily.cc/wp-content/uploads/2013/08/photo.jpg
ORGANIZER;CN="Covenant Family Church":MAILTO:info@covenantfamily.cc
END:VEVENT
END:VCALENDAR